BEGIN:VCALENDAR
VERSION:2.0
PRODID:-//Knjižnica Slovenske Konjice - ECPv6.6.4.2//NONSGML v1.0//EN
CALSCALE:GREGORIAN
METHOD:PUBLISH
X-WR-CALNAME:Knjižnica Slovenske Konjice
X-ORIGINAL-URL:https://www.knjiznica-slovenskekonjice.si
X-WR-CALDESC:Dogodki za Knjižnica Slovenske Konjice
REFRESH-INTERVAL;VALUE=DURATION:PT1H
X-Robots-Tag:noindex
X-PUBLISHED-TTL:PT1H
BEGIN:VTIMEZONE
TZID:Europe/Ljubljana
BEGIN:DAYLIGHT
TZOFFSETFROM:+0100
TZOFFSETTO:+0200
TZNAME:CEST
DTSTART:20190331T010000
END:DAYLIGHT
BEGIN:STANDARD
TZOFFSETFROM:+0200
TZOFFSETTO:+0100
TZNAME:CET
DTSTART:20191027T010000
END:STANDARD
END:VTIMEZONE
BEGIN:VEVENT
DTSTART;TZID=Europe/Ljubljana:20190705T203000
DTEND;TZID=Europe/Ljubljana:20190705T203000
DTSTAMP:20260424T005052
CREATED:20190425T192141Z
LAST-MODIFIED:20190703T122350Z
UID:16051-1562358600-1562358600@www.knjiznica-slovenskekonjice.si
SUMMARY:Poletni glasbeni večer: Siddharta - Nomadi\, akustični koncert ( RAZPRODANO!)
DESCRIPTION:Siddharta\, danes največje ime na slovenski glasbeni sceni\, prihaja v edinstven ambient Žičke kartuzije v akustični izvedbi!\nAkustično potovanje čez glasbene pejsaže njihovega ustvarjanja bo še posebej doživeto\, z emocionalno močnim nabojem. \nObeta se nam glasbeni spektakel\, ki ga ne smete zamuditi! \nVstopnice: 22 EUR\, s SPAR plus kartico: 20 EUR\, otroci do 10 let: 5 EUR.\nhttps://www.eventim.si/si/vstopnice/siddharta-nomadi-akusticni-koncert-loce-zicka-kartuzija-521027/event.html\nInformacije in predprodaja vstopic: Center za kulturne prireditve Slovenske Konjice\, 03 758 04 37\, info@ckpkonjice.si.
URL:https://www.knjiznica-slovenskekonjice.si/dogodek/poletni-glasbeni-vecer-siddharta-nomadi-akusticni-koncert/
LOCATION:Žička Kartuzija\, Slovenia
CATEGORIES:Dogodek
ATTACH;FMTTYPE=image/jpeg:https://www.knjiznica-slovenskekonjice.si/wp-content/uploads/2019/04/2018-Siddharta-Marko-Alpner-005.jpg
ORGANIZER;CN="Center za kulturne prireditve":MAILTO:info@ckpkonjice.si
END:VEVENT
BEGIN:VEVENT
DTSTART;TZID=Europe/Ljubljana:20190629T210000
DTEND;TZID=Europe/Ljubljana:20190629T210000
DTSTAMP:20260424T005052
CREATED:20190425T193208Z
LAST-MODIFIED:20190813T053859Z
UID:16057-1561842000-1561842000@www.knjiznica-slovenskekonjice.si
SUMMARY:Poletnica na starem trgu: Maja Založnik & Moonshine
DESCRIPTION:Maja Založnik je v slovenskem prostoru s svojim neverjetnim vokalom prisotna že mnoga leta. Še posebej Konjičani smo izjemno ponosni nanjo\, saj je domačinka. Spremljali smo jo tako na različnih glasbenih izborih in oddajah\, kot tudi na evrovizijskih tekmovanjih in koncertih v živo\, kjer je zbranemu občinstvu predstavljala tudi avtorske skladbe. Veliko uspeha je požela z visoko uvrstitvijo na nemškem The Voice\, v zadnjem obdobju pa s srbsko glasbeno skupino Moonshine pripravlja nov avtorski projekt\, ki je rezultiral v pripovedni plošči Pieces. \nMaja Založnik & Moonshine so leto 2019 začeli v velikem slogu! V sklopu promocijske turneje bodo obiskali tudi Slovenske Konjice in pripravili prav posebno glasbeno poslastico na Starem trgu. Koncert je darilo Občine Slovenske Konjice ob občinskem prazniku. Izvajali bodo popularne pop in rock priredbe\, od poskočnih hitov do romantičnih šlagerjev\, zasedba pa bo predstavila tudi nekaj izbranih avtorskih skladb iz nove plošče. \nGlasbeni navdušenci iz Slovenskih Konjic in okolice bodo tako lahko prisluhnili znanim zvokom ter domači avtorski glasbi ene najprodornejših izvajalk pri nas. Ne zamudite\, pridružite se nam z vrhunsko vokalistko Majo Založnik in bendom Moonshine. \nBrezplačni koncert ob občinskem prazniku! \n  \nInformacije: Center za kulturne prireditve Slovenske Konjice\, 03 758 04 37\, info@ckpkonjice.si.                                                                                                                                                                                      FB: Center za kulturne prireditve Slovenske Konjice.
URL:https://www.knjiznica-slovenskekonjice.si/dogodek/poletni-glasbeni-vecer-maja-zaloznik-moonshine/
LOCATION:Stari trg\, Slovenske Konjice
CATEGORIES:Dogodek,Koncert
ATTACH;FMTTYPE=image/jpeg:https://www.knjiznica-slovenskekonjice.si/wp-content/uploads/2019/04/Maja-Založnik.jpg
ORGANIZER;CN="Center za kulturne prireditve":MAILTO:info@ckpkonjice.si
END:VEVENT
BEGIN:VEVENT
DTSTART;TZID=Europe/Ljubljana:20190629T190000
DTEND;TZID=Europe/Ljubljana:20190629T200000
DTSTAMP:20260424T005052
CREATED:20190513T065402Z
LAST-MODIFIED:20190617T060910Z
UID:16154-1561834800-1561838400@www.knjiznica-slovenskekonjice.si
SUMMARY:1. Kresničke: Dežela Indijancev
DESCRIPTION:PARK ZA DOMOM KULTURE SLOVENSKE KONJICE\nGledališče ArbadakarbA\nDEŽELA INDIJANCEV\nVstop prost! \n“Svet pravljic je nadvse zabaven! Samo čarobna beseda “Arbadakarba” je potrebna in doživeli boste pravljico v živo – zapeljali vas bomo v svet Indijancev.\nNaše pleme je zelo zaskrbljeno\, saj v indijanski vasici že cel mesec dni ni deževalo. Pridružila se bosta Kekec in Tina in skupaj bomo priklicali dež\, postavili indijanski Totem\, se naučili tradicionalnega indijanskega plesa ter si nadeli prava indijanska imena! Vabljeni\, da se za dve uri prelevite v čisto prave Indijance.” (Gledališče Arbadakarba) \nInfo.: Splošna knjižnica Slovenske Konjice\, 03 758 04 33.
URL:https://www.knjiznica-slovenskekonjice.si/dogodek/test-1-kresnicke/
ATTACH;FMTTYPE=image/png:https://www.knjiznica-slovenskekonjice.si/wp-content/uploads/2019/05/kresničke-1.png
END:VEVENT
END:VCALENDAR