BEGIN:VCALENDAR
VERSION:2.0
PRODID:-//Knjižnica Slovenske Konjice - ECPv6.6.4.2//NONSGML v1.0//EN
CALSCALE:GREGORIAN
METHOD:PUBLISH
X-WR-CALNAME:Knjižnica Slovenske Konjice
X-ORIGINAL-URL:https://www.knjiznica-slovenskekonjice.si
X-WR-CALDESC:Dogodki za Knjižnica Slovenske Konjice
REFRESH-INTERVAL;VALUE=DURATION:PT1H
X-Robots-Tag:noindex
X-PUBLISHED-TTL:PT1H
BEGIN:VTIMEZONE
TZID:Europe/Ljubljana
BEGIN:DAYLIGHT
TZOFFSETFROM:+0100
TZOFFSETTO:+0200
TZNAME:CEST
DTSTART:20250330T010000
END:DAYLIGHT
BEGIN:STANDARD
TZOFFSETFROM:+0200
TZOFFSETTO:+0100
TZNAME:CET
DTSTART:20251026T010000
END:STANDARD
END:VTIMEZONE
BEGIN:VEVENT
DTSTART;TZID=Europe/Ljubljana:20250801T203000
DTEND;TZID=Europe/Ljubljana:20250801T203000
DTSTAMP:20260421T011116
CREATED:20240925T095326Z
LAST-MODIFIED:20240925T095326Z
UID:21919-1754080200-1754080200@www.knjiznica-slovenskekonjice.si
SUMMARY:Šank Rock
DESCRIPTION:PETEK\, 1. AVGUST 2025 \nŽIČKA KARTUZIJA  \n  \nNepozabne popevke skupine Šank Rock so spremljale prve ljubezni\, mladostne pustolovščine in brezskrbne dni več generacij ljubiteljic in ljubiteljev glasbe. Matjaž Jelen\, Bor Zuljan\, Cveto Polak \nin Aleš Uranjek so se po izjemno uspešni rockerski turneji odpravili še na akustično popotovanje po najlepših slovenskih glasbenih prizoriščih. V Žički kartuziji bomo prisluhnili njihovim največjim hitom – Jaz nimam noč za spanje\, Dej bolj na glas radio\, Metulj\, Puščava sna\, Pravljica o mavričnih ljudeh. Na odru se jim bosta pridružili priznani glasbenici Anja Bukovec z violino in Nuša Planinc z violončelom\, da jim bosta pomagali pričarati res romantično vzdušje. Akustični večer\, ki ga ne smete zamuditi. \n  \nInformacije: Center za kulturne prireditve Slovenske Konjice\, 03 758 04 37\, \nFB: Center za kulturne prireditve Slovenske Konjice\, \nIG: @ckpslovenskekonjice.
URL:https://www.knjiznica-slovenskekonjice.si/dogodek/sank-rock/
LOCATION:Žička Kartuzija\, Slovenia
CATEGORIES:Dogodek
ATTACH;FMTTYPE=image/jpeg:https://www.knjiznica-slovenskekonjice.si/wp-content/uploads/2024/09/6.-Poletni-glasbeni-veceri-v-ZK_-Sank_Rock_foto_Marko_Delbello_Ocepek-scaled.jpg
ORGANIZER;CN="Center za kulturne prireditve":MAILTO:info@ckpkonjice.si
END:VEVENT
BEGIN:VEVENT
DTSTART;TZID=Europe/Ljubljana:20250808T203000
DTEND;TZID=Europe/Ljubljana:20250808T203000
DTSTAMP:20260421T011116
CREATED:20240925T095526Z
LAST-MODIFIED:20240925T095526Z
UID:21921-1754685000-1754685000@www.knjiznica-slovenskekonjice.si
SUMMARY:Quintet Piazzoleky & Ana Bezjak
DESCRIPTION:PETEK\, 8. AVGUST 2025 \nŽIČKA KARTUZIJA\, CERKEV SV. JANEZA KRSTNIKA \n  \nČutnost in erotika\, tišina\, žalost\, brutalnost. Te in številne druge plati življenja je mogoče slišati v tangu\, ko občinstvo priča poteku zgodovine tanga na koncertih kvinteta Piazzolleky. S strastjo Tanguerosa\, balkanskim temperamentom in z občutnim ter prefinjenim pristopom izobraženega glasbenika Tango Nuevo in Tango Tipico dobita novo dimenzijo. V mnogih državah Evrope\, v velikih koncertnih dvoranah in klubih – od koder tango izvira\, so dokazali svoj občutek za to glasbo ter visoko raven interpretacije\, ki jih naredi edinstvene. V začetku leta 2024 so posneli že tretji album\, naslovili so ga Poema\, z njim pa so se zopet poklonili bogati zibelki plesnega tanga. Tokrat bodo obudili dolgoletno sodelovanje z izvrstno slovensko jazz vokalistko Ano Bezjak. \n  \nAna Bezjak – vokal\, \nDavorin Mori – klavir\, \nMatjaž Antončič – violina\, \nTimi Krajnc – kitara\, \nVojko Vešligaj – kontrabas\, \nMatjaž Balažic – bandoneon. \n  \nInformacije: Center za kulturne prireditve Slovenske Konjice\, 03 758 04 37\, \nFB: Center za kulturne prireditve Slovenske Konjice\, \nIG: @ckpslovenskekonjice.
URL:https://www.knjiznica-slovenskekonjice.si/dogodek/quintet-piazzoleky-ana-bezjak/
LOCATION:Žička Kartuzija\, Slovenia
CATEGORIES:Dogodek
ATTACH;FMTTYPE=image/jpeg:https://www.knjiznica-slovenskekonjice.si/wp-content/uploads/2024/09/MixCollage-24-Sep-2024-02-35-PM-1005-scaled.jpg
ORGANIZER;CN="Center za kulturne prireditve":MAILTO:info@ckpkonjice.si
END:VEVENT
BEGIN:VEVENT
DTSTART;TZID=Europe/Ljubljana:20250820T190000
DTEND;TZID=Europe/Ljubljana:20250820T200000
DTSTAMP:20260421T011116
CREATED:20250414T070822Z
LAST-MODIFIED:20250414T070838Z
UID:22366-1755716400-1755720000@www.knjiznica-slovenskekonjice.si
SUMMARY:Poletna kulturnica: Tone Partljič
DESCRIPTION:SREDA\, 20. avgust 2025\, 19.00\nPark za Domom kulture Slovenske Konjice\nPogovorni večer\nTONE PARTLJIČ
URL:https://www.knjiznica-slovenskekonjice.si/dogodek/poletna-kulturnica-tone-partljic/
LOCATION:Park za domom kulture Slovenske Konjice\, Mestni trg 4\, Slovenske Konjice\, 3210\, Slovenija
CATEGORIES:Dogodek
ATTACH;FMTTYPE=image/jpeg:https://www.knjiznica-slovenskekonjice.si/wp-content/uploads/2025/04/Tone-partljic.jpeg
ORGANIZER;CN="Splo%C5%A1na Knji%C5%BEnica Slovenske Konjice":MAILTO:info@knjiznicakonjice.si
END:VEVENT
BEGIN:VEVENT
DTSTART;TZID=Europe/Ljubljana:20250822T210000
DTEND;TZID=Europe/Ljubljana:20250822T210000
DTSTAMP:20260421T011116
CREATED:20240925T100251Z
LAST-MODIFIED:20240925T100304Z
UID:21929-1755896400-1755896400@www.knjiznica-slovenskekonjice.si
SUMMARY:Vraževerje
DESCRIPTION:PETEK\, 22. AVGUST 2025\, 21.00 \nSLOVENSKE KONJICE \n  \nNjihovo glasbo bi lahko opisali kot misteriozno kombinacijo zvokov\, zavitih v tančico teme. Pridevniki\, s katerimi bi lahko označili njihovo glasbo\, so teatralna\, drugačna in predvsem polna skrivnosti. Navdih črpajo iz teatra\, tako da je sama izvedba glasbenega nastopa hkrati tudi performans. \nVraževerje je vera v življenje. Vraževerje vrača življenju vero. Daje mu verjetnost\, da se bo v njem nekaj zgodilo. Nekaj čudnega. Nekaj drugačnega\, čudežnega. \nČas je\, da se nekaj drugačnega zgodi tudi na Poletnici v Slovenskih Konjicah. \nMiha Slapnik – kitara\, vokal\, \nLeo Gaberšek – kitara\, back vokal\, \nBlaž Kokol – harmonika\, back vokal\, \nSebastijan Starc – bass \, back vokal\, \nDomen Godec – bobni. \n  \nInformacije: Center za kulturne prireditve Slovenske Konjice\, 03 758 04 37\, \nFB: Center za kulturne prireditve Slovenske Konjice\, \nIG: @ckpslovenskekonjice.
URL:https://www.knjiznica-slovenskekonjice.si/dogodek/vrazeverje/
LOCATION:Slovenske Konjice\, 3210\, Slovenija
CATEGORIES:Dogodek
ATTACH;FMTTYPE=image/jpeg:https://www.knjiznica-slovenskekonjice.si/wp-content/uploads/2024/09/7.-Poletnice_Vrazeverje_arhiv-Vrazeverje.jpg
ORGANIZER;CN="Center za kulturne prireditve":MAILTO:info@ckpkonjice.si
END:VEVENT
BEGIN:VEVENT
DTSTART;TZID=Europe/Ljubljana:20250823T190000
DTEND;TZID=Europe/Ljubljana:20250823T200000
DTSTAMP:20260421T011116
CREATED:20250424T071544Z
LAST-MODIFIED:20250424T071544Z
UID:22389-1755975600-1755979200@www.knjiznica-slovenskekonjice.si
SUMMARY:2. sobotne poletne Kresničke: ČAROVNIČKIN PRVI ČAROBNI UROK
DESCRIPTION:2. sobotne poletne Kresničke: Čarovničkin prvi čarobni urok\n23. 8. 2025\, 19.00\npark za Domom kulture Slovenske Konjice \nVstop prost! \nGLEDALIŠČE PRAVLJIČARNA\nČarovničkin prvi čarobni urok\nČarovnička je še mlada čarovnica\, stara komaj dobrih 100 let.\nA dovolj velika\, da ima svojo metlo\, črnega mačkona in toliko netopirjev\, da jih sploh ne more prešteti. Počasi se uči čaranja in čarobnih urokov\, a ponavljanje sila zapletenih besed ji pošteno nagaja. Tako zelo\, da nehote osmeši netopirčka Maksa\, ki pa ji zaradi tega neljubega pripetljaja pošteno zagreni življenje. \nSte vedeli\, da se tudi čarovničkam v zadregi lička obarvajo rdeče? \nZabavna otroška predstava o sprejemanju sebe takšnega kot si in spoznanju\, da vsak pač ni za vse in da s tem ni prav nič narobe. \nUf\, kako bi bil sicer svet dolgočasen! \nInfo: Splošna knjižnica Slovenske Konjice
URL:https://www.knjiznica-slovenskekonjice.si/dogodek/2-sobotne-poletne-kresnicke-carovnickin-prvi-carobni-urok-2/
LOCATION:Park za domom kulture Slovenske Konjice\, Mestni trg 4\, Slovenske Konjice\, 3210\, Slovenija
CATEGORIES:Dogodek
ATTACH;FMTTYPE=image/jpeg:https://www.knjiznica-slovenskekonjice.si/wp-content/uploads/2025/04/2.-sobotne-kresnicke.jpeg
ORGANIZER;CN="Splo%C5%A1na Knji%C5%BEnica Slovenske Konjice":MAILTO:info@knjiznicakonjice.si
END:VEVENT
END:VCALENDAR