BEGIN:VCALENDAR
VERSION:2.0
PRODID:-//Knjižnica Slovenske Konjice - ECPv6.6.4.2//NONSGML v1.0//EN
CALSCALE:GREGORIAN
METHOD:PUBLISH
X-WR-CALNAME:Knjižnica Slovenske Konjice
X-ORIGINAL-URL:https://www.knjiznica-slovenskekonjice.si
X-WR-CALDESC:Dogodki za Knjižnica Slovenske Konjice
REFRESH-INTERVAL;VALUE=DURATION:PT1H
X-Robots-Tag:noindex
X-PUBLISHED-TTL:PT1H
BEGIN:VTIMEZONE
TZID:Europe/Ljubljana
BEGIN:DAYLIGHT
TZOFFSETFROM:+0100
TZOFFSETTO:+0200
TZNAME:CEST
DTSTART:20250330T010000
END:DAYLIGHT
BEGIN:STANDARD
TZOFFSETFROM:+0200
TZOFFSETTO:+0100
TZNAME:CET
DTSTART:20251026T010000
END:STANDARD
END:VTIMEZONE
BEGIN:VEVENT
DTSTART;TZID=Europe/Ljubljana:20250703T190000
DTEND;TZID=Europe/Ljubljana:20250703T203000
DTSTAMP:20260420T211339
CREATED:20250414T070512Z
LAST-MODIFIED:20250418T092046Z
UID:22364-1751569200-1751574600@www.knjiznica-slovenskekonjice.si
SUMMARY:Poletna kulturnica: Adi Smolar
DESCRIPTION:Sreda\, 3. julij 2025\, 19.00\nPark za Domom kulture Slovenske Konjice\nPogovorno-glasbeni večer\nADI SMOLAR
URL:https://www.knjiznica-slovenskekonjice.si/dogodek/poletna-kulturnica-adi-smolar/
LOCATION:Park za domom kulture Slovenske Konjice\, Mestni trg 4\, Slovenske Konjice\, 3210\, Slovenija
CATEGORIES:Dogodek
ATTACH;FMTTYPE=image/jpeg:https://www.knjiznica-slovenskekonjice.si/wp-content/uploads/2025/04/IMG_6104.jpg
ORGANIZER;CN="Splo%C5%A1na Knji%C5%BEnica Slovenske Konjice":MAILTO:info@knjiznicakonjice.si
END:VEVENT
BEGIN:VEVENT
DTSTART;TZID=Europe/Ljubljana:20250705T203000
DTEND;TZID=Europe/Ljubljana:20250705T203000
DTSTAMP:20260420T211339
CREATED:20240925T095156Z
LAST-MODIFIED:20240925T095156Z
UID:21917-1751747400-1751747400@www.knjiznica-slovenskekonjice.si
SUMMARY:Nina Pušlar
DESCRIPTION:SOBOTA\, 5. JULIJ 2025 \nŽIČKA KARTUZIJA \n  \nSkoraj dve desetletji sta že minili od zmage Nine Pušlar v Bitki talentov\, ki ji je sledil izid pesmi Ni ona. Ninina kariera pa se ves ta čas le vzpenja. Naša najbolj priljubljena glasbena izvajalka\, na spletnih glasbenih platformah in družabnih omrežjih ima skoraj 300.000 sledilcev\, je minulo leto\, v katerem je serijsko razprodala največje koncertne dvorane\, sklenila z odmevnim projektom Nina Pušlar Show v areni Stožice\, ki se je vpisal med slovenske pop-kulturne presežke. \nNina je že pet let zapored najbolj predvajana slovenska izvajalka. Ljubezen\, sočutje\, veselje do življenja in pozitivna sporočila\, zavita v Ninin enkratni glas\, so rdeča nit sedmih studijskih albumov in neskončnega niza hitov\, ki redno zasedajo vrhove lestvic ter zberejo letno tudi skoraj 10 milijonov predvajanj na spletu. \nV Žički kartuziji se nam bo predstavila tretjič in mi že komaj čakamo\, da jo slišimo v živo z njeno odlično ekipo glasbenikov. \n  \nInformacije: Center za kulturne prireditve Slovenske Konjice\, 03 758 04 37\, \nFB: Center za kulturne prireditve Slovenske Konjice\, \nIG: @ckpslovenskekonjice.
URL:https://www.knjiznica-slovenskekonjice.si/dogodek/nina-puslar/
LOCATION:Žička Kartuzija\, Slovenia
CATEGORIES:Dogodek
ATTACH;FMTTYPE=image/jpeg:https://www.knjiznica-slovenskekonjice.si/wp-content/uploads/2024/09/6.-Poletni-glasbeni-veceri-v-ZK_Nina-Puslar-foto-Matic-Kremzar-scaled.jpg
ORGANIZER;CN="Center za kulturne prireditve":MAILTO:info@ckpkonjice.si
END:VEVENT
BEGIN:VEVENT
DTSTART;TZID=Europe/Ljubljana:20250709T090000
DTEND;TZID=Europe/Ljubljana:20250709T110000
DTSTAMP:20260420T211339
CREATED:20250626T124838Z
LAST-MODIFIED:20250626T124838Z
UID:22468-1752051600-1752058800@www.knjiznica-slovenskekonjice.si
SUMMARY:Pozdrav poletju s knjižnico: Barvito ustvarjalno druženje
DESCRIPTION:Barvito ustvarjalno druženje za odrasle in otrokeSreda\, 9. julij 2025\, 9.00 – 11.00Park za Domom kulture Slovenske Konjice\n\nPridruži se nam na sproščenih in barvitih ustvarjalnih delavnicah\, kjer bomo skupaj pozdravili poletje\, se družili\, ustvarjali\, osvežili in spoznavali knjižnico na malce drugačen način. Dogodek je namenjen vsem generacijam.\n\nVstop prost!\nInformacije: Splošna knjižnica Slovenske Konjice\, 03 758 04 33. 
URL:https://www.knjiznica-slovenskekonjice.si/dogodek/pozdrav-poletju-s-knjiznico-barvito-ustvarjalno-druzenje/
LOCATION:Park za domom kulture Slovenske Konjice\, Mestni trg 4\, Slovenske Konjice\, 3210\, Slovenija
CATEGORIES:Dogodek
ATTACH;FMTTYPE=image/jpeg:https://www.knjiznica-slovenskekonjice.si/wp-content/uploads/2025/06/Poletni-dogodki-25.jpg
ORGANIZER;CN="Splo%C5%A1na Knji%C5%BEnica Slovenske Konjice":MAILTO:info@knjiznicakonjice.si
END:VEVENT
BEGIN:VEVENT
DTSTART;TZID=Europe/Ljubljana:20250711T210000
DTEND;TZID=Europe/Ljubljana:20250711T210000
DTSTAMP:20260420T211339
CREATED:20240925T095928Z
LAST-MODIFIED:20240925T095928Z
UID:21925-1752267600-1752267600@www.knjiznica-slovenskekonjice.si
SUMMARY:Andraž Hribar
DESCRIPTION:PETEK\, 11. JULIJ 2025\, 21.00 \nSLOVENSKE KONJICE \n  \nAndraž Hribar je eden tistih glasbenikov\, ki navdih za pisanje pesmi najdejo predvsem v ljubezni in življenju na splošno. Izdal je že svoj 8. album Neskončno\, ki je po tematiki zelo nostalgičen. Gre za avtorjeve spomine na minule in še trajajoče ljubezni\, album pa je nastal v njegovem studiu v Kočevju\, kjer živi in ustvarja. Ljubitelj šansonov in popevk je reden gost številnih prireditev in festivalov\, poleg novih pesmi pa bo kantavtor obudil tudi stare hite\, ki jih slovenska publika še kako dobro pozna in prepeva. Moja\, moja in Kaj mi delaš sta le dva izmed njih\, romantičen poet obeta mnogo več kot le to in to bomo slišali tudi na Poletnici v Slovenskih Konjicah. \n  \nAndraž Hribar – vokal\, \nDorian Granda – bobni\, \nMartin Lunder – kitara\, \nAnže Vrabec – klaviature\, \nGorazd Križ – bas. \n  \nInformacije: Center za kulturne prireditve Slovenske Konjice\, 03 758 04 37\, \nFB: Center za kulturne prireditve Slovenske Konjice\, \nIG: @ckpslovenskekonjice.
URL:https://www.knjiznica-slovenskekonjice.si/dogodek/andraz-hribar/
LOCATION:Slovenske Konjice\, 3210\, Slovenija
CATEGORIES:Dogodek
ATTACH;FMTTYPE=image/jpeg:https://www.knjiznica-slovenskekonjice.si/wp-content/uploads/2024/09/7.-Poletnice_Andraz_Hribar_foto_Zeljko_Stevanic-1-1-2-scaled.jpg
ORGANIZER;CN="Center za kulturne prireditve":MAILTO:info@ckpkonjice.si
END:VEVENT
BEGIN:VEVENT
DTSTART;TZID=Europe/Ljubljana:20250712T190000
DTEND;TZID=Europe/Ljubljana:20250712T200000
DTSTAMP:20260420T211339
CREATED:20250414T071524Z
LAST-MODIFIED:20250424T071821Z
UID:22371-1752346800-1752350400@www.knjiznica-slovenskekonjice.si
SUMMARY:1. sobotne poletne KRESNIČKE: Travniške zgodbe
DESCRIPTION:1. sobotne poletne Kresničke: Travniške zgodbe\n12. 7. 2025\, 19.00\npark za Domom kulture Slovenske Konjice \nVstop prost! \nGLEDALIŠČE PRAVLJIČARNA\nTravniške zgodbe\nDaleč stran od mestnega vrveža\, na levi obdan z veliko mlako\, na desni z visokimi drevesi\, leži čudovit travnik. In prav na tem travniku vsako leto pokuka na plano Marjetica\, ki vas bo s svojimi čudovitimi zgodbami o travniških dogodivščinah prepričala\, da med travnimi bilkami nikoli ni dolgčas\nV ekološko obarvani animacijski predstavi otroci ves čas aktivno sodelujejo.\nZ Marjetico nahranijo požrešno gosenico\, z majhno sivo miško in srčnim ježkom delijo zgodbo o jabolku\, pripravijo čebelnjak čebelam\, ki se kmalu vračajo z dopusta\, se naučijo izštevanko in skuhajo najokusnejšo cvetlično juho začinjeno z jutranjo roso. \nInfo: Splošna knjižnica Slovenske Konjice
URL:https://www.knjiznica-slovenskekonjice.si/dogodek/1-sobotne-poletne-kresnicke-travniske-zgodbe/
LOCATION:Park za domom kulture Slovenske Konjice\, Mestni trg 4\, Slovenske Konjice\, 3210\, Slovenija
CATEGORIES:Dogodek
ATTACH;FMTTYPE=image/jpeg:https://www.knjiznica-slovenskekonjice.si/wp-content/uploads/2025/04/1.-SOBOTNE-KRESNICKE.jpeg
ORGANIZER;CN="Splo%C5%A1na Knji%C5%BEnica Slovenske Konjice":MAILTO:info@knjiznicakonjice.si
END:VEVENT
BEGIN:VEVENT
DTSTART;TZID=Europe/Ljubljana:20250725T210000
DTEND;TZID=Europe/Ljubljana:20250725T210000
DTSTAMP:20260420T211339
CREATED:20240925T100115Z
LAST-MODIFIED:20240925T100115Z
UID:21927-1753477200-1753477200@www.knjiznica-slovenskekonjice.si
SUMMARY:Barni band
DESCRIPTION:PETEK\, 25. JULIJ 2025\, 21.00 \nSLOVENSKE KONJICE \n  \nLegendarna zasedba iz Rogaške Slatine\, Barni band\, se je vrnila na koncerte odre. \nAleš Boroš Barni\, vodja Barni banda\, kantavtor\, roker iz Rogaške Slatine\, je z različnimi zasedbami odličnih glasbenikov posnel in izdal tri zgoščenke: Jutro pojutrišnjem\, Drugi krog in Veseloigra. Z novo\, pomlajeno ekipo glasbenikov je na obzorju predstavitev četrtega albuma. Generacijska\, izpovedna besedila in rokerska glasbena podlaga so zagotovilo za odličen koncertni večer. Naša pesem\, Visoko nad oblaki\, Srna z ulice\, Travica\, Štrom so le nekateri od komadov\, ki jih boste slišali na tokratnem koncertu. \n  \nAleš Boroš Barni – vokal\, \nMilan Plavčak – kitara\, \nNeža Pavlovič – bas kitara\, \nPeter Baroš – klaviature\, \nSandi Kampuš – bobni. \n  \nInformacije: Center za kulturne prireditve Slovenske Konjice\, 03 758 04 37\, \nFB: Center za kulturne prireditve Slovenske Konjice\, \nIG: @ckpslovenskekonjice.
URL:https://www.knjiznica-slovenskekonjice.si/dogodek/barni-band/
LOCATION:Slovenske Konjice\, 3210\, Slovenija
CATEGORIES:Dogodek
ATTACH;FMTTYPE=image/jpeg:https://www.knjiznica-slovenskekonjice.si/wp-content/uploads/2024/09/7.-Poletnice_Barni-band_-arhiv-Barni-band-scaled.jpg
ORGANIZER;CN="Center za kulturne prireditve":MAILTO:info@ckpkonjice.si
END:VEVENT
END:VCALENDAR