BEGIN:VCALENDAR
VERSION:2.0
PRODID:-//Knjižnica Slovenske Konjice - ECPv6.6.4.2//NONSGML v1.0//EN
CALSCALE:GREGORIAN
METHOD:PUBLISH
X-ORIGINAL-URL:https://www.knjiznica-slovenskekonjice.si
X-WR-CALDESC:Dogodki za Knjižnica Slovenske Konjice
REFRESH-INTERVAL;VALUE=DURATION:PT1H
X-Robots-Tag:noindex
X-PUBLISHED-TTL:PT1H
BEGIN:VTIMEZONE
TZID:Europe/Ljubljana
BEGIN:DAYLIGHT
TZOFFSETFROM:+0100
TZOFFSETTO:+0200
TZNAME:CEST
DTSTART:20250330T010000
END:DAYLIGHT
BEGIN:STANDARD
TZOFFSETFROM:+0200
TZOFFSETTO:+0100
TZNAME:CET
DTSTART:20251026T010000
END:STANDARD
END:VTIMEZONE
BEGIN:VEVENT
DTSTART;TZID=Europe/Ljubljana:20250109T180000
DTEND;TZID=Europe/Ljubljana:20250109T193000
DTSTAMP:20260420T174628
CREATED:20241219T142150Z
LAST-MODIFIED:20241219T142150Z
UID:22141-1736445600-1736451000@www.knjiznica-slovenskekonjice.si
SUMMARY:ddr. Ana Vovk: Zakaj nam umira rodovitna zemlja in kako jo spet oživeti?
DESCRIPTION:PREDAVANJE9. 1. 2025\, Dom kulture Ločeddr. ANA VOVKZakaj nam umira rodovitna zemlja in kako jo spet oživeti?\n\nAna Vovk Korže je profesorica na oddelku za geografijo mariborske filozofske fakultete. Dvojna doktorica znanosti pri svojem delu povezuje področje fizične geografije\, pokrajinske ekologije\, varovanja okolja in možnosti za regionalni razvoj. Kot pedagoginja je ustanoviteljica in pobudnica učnih poligonov\, ki omogočajo spoznavanje naravnih zakonitosti od blizu. Ustanovila je Učni poligon za samooskrbo Dole\, ki je nagrajen z nacionalno nagrado za drugo najboljšo učno pot v Sloveniji.\n\nVstop prost!\n\nOrganizatorica: Splošna knjižnica Slovenske Konjice.\n\nFoto: Večer v živo.
URL:https://www.knjiznica-slovenskekonjice.si/dogodek/ddr-ana-vovk-zakaj-nam-umira-rodovitna-zemlja-in-kako-jo-spet-oziveti/
LOCATION:Kulturni dom Loče\, dvorana\, Stari trg 15\, Loče\, 3215\, Slovenija
CATEGORIES:Dogodek
ATTACH;FMTTYPE=image/jpeg:https://www.knjiznica-slovenskekonjice.si/wp-content/uploads/2024/12/ana-vovk.jpg
ORGANIZER;CN="Splo%C5%A1na Knji%C5%BEnica Slovenske Konjice":MAILTO:info@knjiznicakonjice.si
END:VEVENT
BEGIN:VEVENT
DTSTART;TZID=Europe/Ljubljana:20250110T180000
DTEND;TZID=Europe/Ljubljana:20250110T180000
DTSTAMP:20260420T174628
CREATED:20250106T122932Z
LAST-MODIFIED:20250106T122932Z
UID:22180-1736532000-1736532000@www.knjiznica-slovenskekonjice.si
SUMMARY:Koncertni cikel pri Didiju: Monja Obrul\, Martin Sikur & Mojca Menoni Sikur
DESCRIPTION:V tokratnem Koncertem ciklu pri Didiju se nam bodo predstavili balerina Monja Obrul\, violinistka Mojca Menoni Sikur in violončelist Martin Sikur. Balerina Monja Obrul je članica mariborskega baleta\, ki navdušuje v zaupanih vlogah. Njeni začetki segajo v Glasbeno šolo Slovenske Konjice\, kjer je pri štirih letih začela obiskovati ure klasičnega baleta. \nMonja Obrul se je po nižji baletni šoli na Konservatoriju za glasbo in balet Maribor in na Baletni šoli v Slovenskih Konjicah vpisala na prestižno Kraljevo baletno višjo šolo v Londonu v Angliji. Študij je zaključila na Akademiji za ples Alme Mater Europea. Že zgodaj je prejela številne nagrade in priznanja. Njena profesionalna kariera vključuje sodelovanje s priznanimi baletnimi skupinami\, kot so Kraljevi balet v Londonu in Mikhailovsky Ballet v Sankt Peterburgu med njihovo turnejo po Japonski. V Baletu Slovenskega narodnega gledališča Maribor je nastopala v najuspešnejših baletnih produkcijah. \n\n\nViolinistka Mojca Menoni Sikur je diplomirala na Akademiji za glasbo v Ljubljani v razredu Dejana Bravničarja in na isti akademiji uspešno zaključila specialistični podiplomski študij pri Vasiliju Meljnikovu. Svoje znanje je nadgrajevala pri Pavlu Vernikovu na Fondazione Musicale Santa Cecilia v Portogruaru in na številnih mednarodnih mojstrskih tečajih pri priznanih profesorjih. Igra v Klavirskem triu Ars Musica\, v orkestru Spira mirabilis in je članica komornega orkestra FB banda\, ki deluje pod umetniškim vodstvom klarinetista Mateta Bekavca. Mojca je vodja drugih violin v Simfoničnem orkestru RTV Slovenija.\n\nMartin Sikur je violončelo študiral pri Cirilu Škerjancu na Akademiji za glasbo v Ljubljani\, pri Enricu Bronziju in Giovanniju Gnocchiju na Fondazione Musicale Santa Cecilia v Portogruaru\, komorno igro pa pri Chia Chouju na Univerzi za glasbo in upodabljajočo umetnost v Gradcu. Za svoje glasbeno delovanje je prejel več nagrad in priznanj. Izpopolnjeval se je na mojstrskih tečajih violončela in komorne igre pri priznanih profesorjih. Bil je član mladinskega orkestra Gustav Mahler. Kot solist ali komorni glasbenik nastopa doma in v tujini. Martin Sikur igra v FB bandi in je član orkestra Slovenske filharmonije.\n\nMonja Obrul – balet\,Mojca Menoni Sikur – violina\,Martin Sikur – violončelo.\n\nVstopnina: 12 €.Učenci\, dijaki\, študentje: brezplačen vstop.\n\nInformacije: Center za kulturne prireditve Slovenske Konjice\, 03 758 04 37\,FB: Center za kulturne prireditve Slovenske Konjice\,IG: @ckpslovenskekonjice.
URL:https://www.knjiznica-slovenskekonjice.si/dogodek/koncertni-cikel-pri-didiju-monja-obrul-martin-sikur-mojca-menoni-sikur/
LOCATION:Dom kulture Slovenske Konjice\, dvorana\, Mestni trg 4\, Slovenske Konjice
CATEGORIES:Dogodek
ATTACH;FMTTYPE=image/jpeg:https://www.knjiznica-slovenskekonjice.si/wp-content/uploads/2025/01/FB_HD_Koncertni-cikel-Pri-Didiju-CKPSK_20.9.2024.jpg
ORGANIZER;CN="Center za kulturne prireditve":MAILTO:info@ckpkonjice.si
END:VEVENT
BEGIN:VEVENT
DTSTART;TZID=Europe/Ljubljana:20250117T170000
DTEND;TZID=Europe/Ljubljana:20250117T170000
DTSTAMP:20260420T174628
CREATED:20250113T125809Z
LAST-MODIFIED:20250113T125809Z
UID:22197-1737133200-1737133200@www.knjiznica-slovenskekonjice.si
SUMMARY:Kino Loče: Dunja in princesa iz Alepa
DESCRIPTION:Dunja živi v Alepu\, tisočletnem mestu\, ki je bilo nekdaj središče sveta. Živahna kodrolasa deklica obožuje igro\, učenje in odkrivanje novih receptov. Čas preživlja v vrvežu tržnice\, kjer z dedkom iščeta sestavine za okusne jedi\, ki jih pripravlja babica. Življenje je polno prijaznih sosedov\, slikovitih pripovedk in živahne glasbe. Nekega večera pa skupina uniformiranih mož odpelje Dunjinega očeta. Tudi na ulicah je vse bolj čutiti stopnjevanje napetosti. Ko se začne vojna\, skušata Dunjina babica in dedek zaščititi deklico in poiskati varnejši kraj. Dunja s sabo vzame le nekaj semen črnike\, ki naj bi imela čarobne moči. Potovanje jih vodi čez kopno in morje\, nevarnosti pa premagujejo s pogumom\, polnim upanja\, medsebojne pomoči in tudi humorja.\n\nVstopnice: 5 €.
URL:https://www.knjiznica-slovenskekonjice.si/dogodek/kino-loce-dunja-in-princesa-iz-alepa/
LOCATION:Kulturni dom Loče\, dvorana\, Stari trg 15\, Loče\, 3215\, Slovenija
CATEGORIES:Dogodek
ATTACH;FMTTYPE=image/jpeg:https://www.knjiznica-slovenskekonjice.si/wp-content/uploads/2025/01/FB_HD_Kino-JANUAR-Dunja-CKPSK_6.1.2025-1.jpg
ORGANIZER;CN="Center za kulturne prireditve":MAILTO:info@ckpkonjice.si
END:VEVENT
BEGIN:VEVENT
DTSTART;TZID=Europe/Ljubljana:20250118T170000
DTEND;TZID=Europe/Ljubljana:20250118T170000
DTSTAMP:20260420T174628
CREATED:20250113T130005Z
LAST-MODIFIED:20250113T130005Z
UID:22200-1737219600-1737219600@www.knjiznica-slovenskekonjice.si
SUMMARY:Kino Slovenske Konjice: Dunja in princesa iz Alepa
DESCRIPTION:Dunja živi v Alepu\, tisočletnem mestu\, ki je bilo nekdaj središče sveta. Živahna kodrolasa deklica obožuje igro\, učenje in odkrivanje novih receptov. Čas preživlja v vrvežu tržnice\, kjer z dedkom iščeta sestavine za okusne jedi\, ki jih pripravlja babica. Življenje je polno prijaznih sosedov\, slikovitih pripovedk in živahne glasbe. Nekega večera pa skupina uniformiranih mož odpelje Dunjinega očeta. Tudi na ulicah je vse bolj čutiti stopnjevanje napetosti. Ko se začne vojna\, skušata Dunjina babica in dedek zaščititi deklico in poiskati varnejši kraj. Dunja s sabo vzame le nekaj semen črnike\, ki naj bi imela čarobne moči. Potovanje jih vodi čez kopno in morje\, nevarnosti pa premagujejo s pogumom\, polnim upanja\, medsebojne pomoči in tudi humorja.\n\nVstopnice: 5 €.
URL:https://www.knjiznica-slovenskekonjice.si/dogodek/kino-slovenske-konjice-dunja-in-princesa-iz-alepa/
LOCATION:Dom kulture Slovenske Konjice\, dvorana\, Mestni trg 4\, Slovenske Konjice
CATEGORIES:Dogodek
ATTACH;FMTTYPE=image/jpeg:https://www.knjiznica-slovenskekonjice.si/wp-content/uploads/2025/01/FB_HD_Kino-JANUAR-Dunja-CKPSK_6.1.2025-1.jpg
END:VEVENT
BEGIN:VEVENT
DTSTART;TZID=Europe/Ljubljana:20250119T190000
DTEND;TZID=Europe/Ljubljana:20250119T190000
DTSTAMP:20260420T174628
CREATED:20240925T080344Z
LAST-MODIFIED:20240925T080344Z
UID:21871-1737313200-1737313200@www.knjiznica-slovenskekonjice.si
SUMMARY:Abonma: Trio pupe
DESCRIPTION:NEDELJA\, 19. JANUAR 2025\, 19.00 \nDOM KULTURE SLOVENSKE KONJICE\, DVORANA \nGLEDALIŠČE KOPER \n  \nDonatella\, Fiorella in Marija so sestre\, ki jih v življenju poleg skupnega očeta (materi sta dve\, sestri) druži še ljubezen do popevk iz petdesetih let prejšnjega stoletja in nastopanje pod skupnim imenom Trio Pupe. Za tokratni koncert se zdi\, da bi lahko bil njihov zadnji skupni nastop\, saj ta mineva v pričakovanju »izida« oporoke po očetovi smrti\, od katere si (četudi obstaja možnost\, da je oče del premoženja zapustil tudi materama in številnim ljubicam) atraktivna in dominantna Primorka Donatella obeta največji delež ter z njim možnost za »osamosvojitev« in solistično kariero. Čakanje na oporoko med ne več prav mlade sestre vnese nemir\, znova vzniknejo stare zamere in zdi se\, da med seboj kar tekmujejo v »strupenosti« in v tem\, katera bo drugo bolj prizadela; Donatella neusmiljeno in žaljivo strelja z vsemi topovi\, simpatična in obilna Fiorella\, ki jo z Donatello druži tudi skupna mati\, ostaja ravnodušna in šaljiva\, a je sposobna nasprotnico »zabiti« v trenutku\, konservativna Korošica Marija pa se panično trudi miriti strasti … Vse dokler vse tri znova ne premaga sestrska ljubezen. \nGlasbena komedija za tri igralce (prav ste prebrali\, za igralce)\, zabavna\, v rimanih in narečno obarvanih dialogih\, predvsem pa všečna s priredbami znanih napevov in popevk od petdesetih let naprej\, nadaljuje niz uprizoritev\, s katerimi se Gledališče Koper v slovenskem gledališkem prostoru vse bolj uveljavlja kot glasbeno gledališče. \n  \nRežija: Jaka Ivanc. \nSlovenska besedila songov: Gašper Tič. \n  \nIgralska zasedba: \nUroš Smolej\, \nDanijel Malalan\, \nRok Matek.
URL:https://www.knjiznica-slovenskekonjice.si/dogodek/abonma-trio-pupe/
LOCATION:Dom kulture Slovenske Konjice\, dvorana\, Mestni trg 4\, Slovenske Konjice
CATEGORIES:Dogodek
ATTACH;FMTTYPE=image/jpeg:https://www.knjiznica-slovenskekonjice.si/wp-content/uploads/2024/09/1.-Komedije_Trio-Pupe_Jaka-Varmuz.jpg
ORGANIZER;CN="Center za kulturne prireditve":MAILTO:info@ckpkonjice.si
END:VEVENT
BEGIN:VEVENT
DTSTART;TZID=Europe/Ljubljana:20250121T180000
DTEND;TZID=Europe/Ljubljana:20250121T193000
DTSTAMP:20260420T174628
CREATED:20250113T131340Z
LAST-MODIFIED:20250113T131340Z
UID:22202-1737482400-1737487800@www.knjiznica-slovenskekonjice.si
SUMMARY:𝐝𝐝𝐫. 𝐀𝐧𝐚 𝐕𝐨𝐯𝐤: 𝐈𝐳𝐝𝐞𝐥𝐚𝐯𝐚 𝐨𝐠𝐥𝐣𝐢𝐤𝐨𝐯𝐞 𝐠𝐫𝐞𝐝𝐞 - dodatno predavanje
DESCRIPTION:𝐃𝐨𝐝𝐚𝐭𝐧𝐨 𝐩𝐫𝐞𝐝𝐚𝐯𝐚𝐧𝐣𝐞𝐓𝐨𝐫𝐞𝐤\, 𝟐𝟏. 𝟏. 𝟐𝟎𝟐𝟓\, 𝟏𝟖.𝟎𝟎\, 𝐃𝐨𝐦 𝐤𝐮𝐥𝐭𝐮𝐫𝐞 𝐋𝐎Č𝐄𝐝𝐝𝐫. 𝐀𝐧𝐚 𝐕𝐨𝐯𝐤\, 𝐈𝐳𝐝𝐞𝐥𝐚𝐯𝐚 𝐨𝐠𝐥𝐣𝐢𝐤𝐨𝐯𝐞 𝐠𝐫𝐞𝐝𝐞\nDdr. Ana Vovk je profesorica na oddelku za geografijo mariborske filozofske fakultete. Ustanovila je Učni poligon za samooskrbo Dole\, ki je nagrajen z nacionalno nagrado za drugo najboljšo učno pot v Sloveniji.Splošna knjižnica Slovenske Konjice\, enota Loče je 9. 1. 2025 organizirala predavanje\, Zakaj nam umira rodovitna zemlja? \nZaradi velikega zanimanja bomo organizirali dodatno predavanje o izdelavi ogljikove grede brez oranja. \nUdeležba je brezplačna. \nInformacije: Splošna knjižnica Slovenske Konjice\, 03 758 04 33\, in info@knjiznicakonjice.si.
URL:https://www.knjiznica-slovenskekonjice.si/dogodek/%f0%9d%90%9d%f0%9d%90%9d%f0%9d%90%ab-%f0%9d%90%80%f0%9d%90%a7%f0%9d%90%9a-%f0%9d%90%95%f0%9d%90%a8%f0%9d%90%af%f0%9d%90%a4-%f0%9d%90%88%f0%9d%90%b3%f0%9d%90%9d%f0%9d%90%9e%f0%9d%90%a5%f0%9d%90%9a/
LOCATION:Kulturni dom Loče\, dvorana\, Stari trg 15\, Loče\, 3215\, Slovenija
CATEGORIES:Dogodek
ATTACH;FMTTYPE=image/jpeg:https://www.knjiznica-slovenskekonjice.si/wp-content/uploads/2025/01/Ana-Vovk-dodatno-predavanje-scaled.jpg
ORGANIZER;CN="Splo%C5%A1na Knji%C5%BEnica Slovenske Konjice":MAILTO:info@knjiznicakonjice.si
END:VEVENT
BEGIN:VEVENT
DTSTART;TZID=Europe/Ljubljana:20250125T100000
DTEND;TZID=Europe/Ljubljana:20250125T100000
DTSTAMP:20260420T174628
CREATED:20240925T091335Z
LAST-MODIFIED:20240925T091335Z
UID:21899-1737799200-1737799200@www.knjiznica-slovenskekonjice.si
SUMMARY:Zimske radosti
DESCRIPTION:SOBOTA\, 25. JANUAR 2025\, 10.00 \nDOM KULTURE LOČE\, DVORANA \nGLEDALIŠČE MAKARENKO \n  \nPrvi sneg je prekril jaso pred brlogom medvedka Jake in ustvaril pravo zimsko pravljico. Medvedek Jaka\, navdušen nad belo snežno odejo\, se od veselja valja po snegu in kmalu dobi briljantno zamisel: “Zgradil bom pravega sneženega moža!” Toda za ta pravljični podvig bo potreboval pomoč svojih dobrih prijateljev\, zajčka Ušeskota\, jelena Jelenkota in ptička Čivkota. \nSkupaj se podajo na zimsko dogodivščino\, polno smeha\, radosti in nepričakovanih presenečenj. Bodo zmogli postaviti najlepšega sneženega moža vseh časov? Spremljajte medvedka in družbo ter uživajte v čarobnih trenutkih\, ki jih prinaša zima. Predstava Zimske radosti prinaša toplino zimskega časa in poudarja pomen prijateljstva ter sodelovanja. Pridružite se našim ljubkim junakom na tem čarobnem popotovanju skozi sneg\, smeh in nepozabne zimske radosti! \n  \nInformacije: Center za kulturne prireditve Slovenske Konjice\, 03 758 04 37\, \nFB: Center za kulturne prireditve Slovenske Konjice\, \nIG: @ckpslovenskekonjice.
URL:https://www.knjiznica-slovenskekonjice.si/dogodek/zimske-radosti/
LOCATION:Kulturni dom Loče\, dvorana\, Stari trg 15\, Loče\, 3215\, Slovenija
CATEGORIES:Dogodek
ATTACH;FMTTYPE=image/jpeg:https://www.knjiznica-slovenskekonjice.si/wp-content/uploads/2024/09/3.-Mini_Zimske-radosti_Janez-Pelko-Miha-Sest.jpg
END:VEVENT
BEGIN:VEVENT
DTSTART;TZID=Europe/Ljubljana:20250127T180000
DTEND;TZID=Europe/Ljubljana:20250127T190000
DTSTAMP:20260420T174628
CREATED:20250104T074424Z
LAST-MODIFIED:20250104T074424Z
UID:22167-1738000800-1738004400@www.knjiznica-slovenskekonjice.si
SUMMARY:Petra Klima: Po poteh taboriščnikov II
DESCRIPTION:𝐏𝐨𝐧𝐞𝐝𝐞𝐥𝐣𝐞𝐤\, 𝟐𝟕. 𝟏. 𝟐𝟎𝟐𝟓\, 𝟏𝟖.𝟎𝟎Velika galerija Doma kulture Slovenske Konjice\n𝗣𝗲𝘁𝗿𝗮 𝗞𝗹𝗶𝗺𝗮\, 𝘇𝗴𝗼𝗱𝗼𝘃𝗶𝗻𝗮𝗿𝗸𝗮Potopisno-zgodovinsko predavanje: Po poteh taboriščnikov II\n\nŽe drugo leto bomo s predavanjem obeležili svetovni dan spomina na žrtve holokavsta.\nZnani izrek pravi: »Historia magistra vitae est« (Zgodovina je učiteljica življenja.) Pa vendarle smo vsakdan priča\, da se zgodovina žal prevečkrat ponavlja. Prostori\, predmeti\, zapisani spomini … pa nas še naprej opominjajo na pretekle dogodke. V opomin na preteklost in na obeležitev dneva spomina na žrtve holokavsta\, 27. januarja se bomo skozi fotografije in zgodbe poglobili v dogodke iz taborišč Auschwitzu in Dachau.\n\nVstop prost!
URL:https://www.knjiznica-slovenskekonjice.si/dogodek/petra-klima-po-poteh-taboriscnikov-ii/
LOCATION:Velika galerija Doma kulture Slovenske Konjice\, Mestni trg 4\, Slovenske Konjice\, 3210\, Slovenija
CATEGORIES:Dogodek
ATTACH;FMTTYPE=image/jpeg:https://www.knjiznica-slovenskekonjice.si/wp-content/uploads/2025/01/Petra-Klima.jpg
ORGANIZER;CN="Splo%C5%A1na Knji%C5%BEnica Slovenske Konjice":MAILTO:info@knjiznicakonjice.si
END:VEVENT
END:VCALENDAR