BEGIN:VCALENDAR
VERSION:2.0
PRODID:-//Knjižnica Slovenske Konjice - ECPv6.6.4.2//NONSGML v1.0//EN
CALSCALE:GREGORIAN
METHOD:PUBLISH
X-WR-CALNAME:Knjižnica Slovenske Konjice
X-ORIGINAL-URL:https://www.knjiznica-slovenskekonjice.si
X-WR-CALDESC:Dogodki za Knjižnica Slovenske Konjice
REFRESH-INTERVAL;VALUE=DURATION:PT1H
X-Robots-Tag:noindex
X-PUBLISHED-TTL:PT1H
BEGIN:VTIMEZONE
TZID:Europe/Ljubljana
BEGIN:DAYLIGHT
TZOFFSETFROM:+0100
TZOFFSETTO:+0200
TZNAME:CEST
DTSTART:20240331T010000
END:DAYLIGHT
BEGIN:STANDARD
TZOFFSETFROM:+0200
TZOFFSETTO:+0100
TZNAME:CET
DTSTART:20241027T010000
END:STANDARD
END:VTIMEZONE
BEGIN:VEVENT
DTSTART;TZID=Europe/Ljubljana:20241003T170000
DTEND;TZID=Europe/Ljubljana:20241003T170000
DTSTAMP:20260420T230328
CREATED:20240925T100706Z
LAST-MODIFIED:20240925T100706Z
UID:21931-1727974800-1727974800@www.knjiznica-slovenskekonjice.si
SUMMARY:Odprtje razstave Likovne kolonije na Trebniku
DESCRIPTION:V Slovenskih Konjicah se bo tudi letošnje leto odvijala Likovna kolonija na Trebniku. Šest gostujočih slovenskih umetnikov bo pet dni bivalo in ustvarjalo v slikovitem okolju dvorca Trebnik\, njihovo bivanje v Slovenskih Konjicah pa se bo sklenilo z zaključno razstavo v Žički kartuziji. Namen kolonije je spodbujanje ustvarjalnosti na Konjiškem\, tkanje novih poznanstev in sodelovanj\, predvsem pa pripeljati in predstaviti kakovostno slovensko umetniško produkcijo domači publiki. Letos bodo na koloniji ustvarjali priznani in nagrajeni slovenski umetniki in umetnice Janja Kosi\, Valerie Wolf Gang\, Tejka Pezdirc\, Nina Koželj\, Gašper Capuder in Nik Erik Neubauer. \nZaključna razstava bo v četrtek\, 3. oktobra\, ob 17. uri\, v cerkvi sv. Janeza Krstnika v Žički kartuziji. \n  \nInformacije: Center za kulturne prireditve Slovenske Konjice\, 03 758 04 37\, \nFB: Center za kulturne prireditve Slovenske Konjice\, \nIG: @ckpslovenskekonjice.
URL:https://www.knjiznica-slovenskekonjice.si/dogodek/odprtje-razstave-likovne-kolonije-na-trebniku-2/
LOCATION:Žička Kartuzija\, Slovenia
CATEGORIES:Dogodek
ATTACH;FMTTYPE=image/jpeg:https://www.knjiznica-slovenskekonjice.si/wp-content/uploads/2024/09/FB_HD_Dogodek-Likovna-kolonija-na-Trebniku-CKPSK_3.9.2024-scaled.jpg
ORGANIZER;CN="Center za kulturne prireditve":MAILTO:info@ckpkonjice.si
END:VEVENT
BEGIN:VEVENT
DTSTART;TZID=Europe/Ljubljana:20241004T170000
DTEND;TZID=Europe/Ljubljana:20241004T203000
DTSTAMP:20260420T230328
CREATED:20240913T112911Z
LAST-MODIFIED:20240913T112911Z
UID:21714-1728061200-1728073800@www.knjiznica-slovenskekonjice.si
SUMMARY:Večer v živo - delavnica: dr. Tanja Pia Metelko\, med. cert. svetovalka pri dr. Joeju Dispenzi
DESCRIPTION:Dr. Tanja Pia Metelko: Delavnica spreminjanja uma in kreiranja novih rezultatov – dr. Joe Dispenza v praksi\n\nPridružite se nam v DOMU KULTURE V SLOVENSKIH KONJICAH na vrhunski delavnici dr. Tanje Pie Metelko\, ki temelji na NEVROZNANOSTI\, KVANTNI FIZIKI in naukih dr. JOEJA DISPENZE.\n\nIzvedeli boste:• kako ustvarjamo našo osebno resničnost – naše življenje• kako presežemo analitični um• kako vstopimo v nezavedno in spremenimo vzorce• kako kreiramo iz srca\nNa Večeru v živo nas čakajo:• Predavanje z diskusijo• Praktične vaje• Dihalna vaja• Meditacija\nCelotno srečanje traja do 20.30.\n\nNa dogodku ne bo prodaje vstopnic\, zato prosimo\, da si jih zagotovite vnaprej.\nPRIDRUŽITE se … PRIDOBITE … PRENESITE v življenje!\n\nVabljeni!\n\nVstopnice: Eventim in Tic Slov. Konjicehttps://www.eventim.si/…/dr-tanja-pia…/event.html
URL:https://www.knjiznica-slovenskekonjice.si/dogodek/vecer-v-zivo-delavnica-dr-tanja-pia-metelko-med-cert-svetovalka-pri-dr-joeju-dispenzi/
LOCATION:Dom kulture Slovenske Konjice\, Mestni trg 4\, Slovenske Konjice\, 3210
CATEGORIES:Dogodek
ATTACH;FMTTYPE=image/jpeg:https://www.knjiznica-slovenskekonjice.si/wp-content/uploads/2024/09/vecer-v-zivo.jpg
END:VEVENT
BEGIN:VEVENT
DTSTART;TZID=Europe/Ljubljana:20241010T180000
DTEND;TZID=Europe/Ljubljana:20241010T180000
DTSTAMP:20260420T230328
CREATED:20240913T112431Z
LAST-MODIFIED:20241008T074031Z
UID:21712-1728583200-1728583200@www.knjiznica-slovenskekonjice.si
SUMMARY:1. Čajanka v sezoni 24/25: Desa Muck
DESCRIPTION:10. OKTOBER 2024\, 18.00SPLOŠNA KNJIŽNICA SLOVENSKE KONJICE\nPOGOVORNI VEČERDESA MUCK\n\nDesa Muck\, pisateljica\, gledališka in filmska ter televizijska igralka\, televizijska voditeljica …Napisala je preko 60 knjig za otroke\, mladino in odrasle. Je prejemnica številnih nagrad za literaturo\, nagrade Vesna za igranje v filmu Instalacija ljubezni in nagrade Viktor za vodenje televizijske oddaje Videogodba. Uvrščena je bila tudi na mednarodno Častno listo IBBY.\n\nPogovor bo vodila Maja Furman.\n\nVstop prost.\n\nFoto: Ana Iza Sajko
URL:https://www.knjiznica-slovenskekonjice.si/dogodek/1-cajanka-v-sezoni-24-25-desa-muck/
LOCATION:Dom kulture Slovenske Konjice\, Mestni trg 4\, Slovenske Konjice\, 3210
CATEGORIES:Dogodek
ATTACH;FMTTYPE=image/jpeg:https://www.knjiznica-slovenskekonjice.si/wp-content/uploads/2024/09/desa-muck.jpg
ORGANIZER;CN="Splo%C5%A1na Knji%C5%BEnica Slovenske Konjice":MAILTO:info@knjiznicakonjice.si
END:VEVENT
BEGIN:VEVENT
DTSTART;TZID=Europe/Ljubljana:20241011T160000
DTEND;TZID=Europe/Ljubljana:20241011T160000
DTSTAMP:20260420T230328
CREATED:20240925T101112Z
LAST-MODIFIED:20240925T102319Z
UID:21933-1728662400-1728662400@www.knjiznica-slovenskekonjice.si
SUMMARY:20. festival lepopisja
DESCRIPTION:PETEK\, 11. OKTOBER 2024\, 16.00 \nŽIČKA KARTUZIJA \n  \nPisava je po vlogi\, ki jo je vedno imela v kulturnem razvoju človeštva\, največji dosežek človekovega duha\, njegove zavesti in iznajditeljske moči. Če je govorjeni jezik sredstvo za neposredno sporazumevanje ljudi\, je pisava pripomoček\, s katerim se ljudje sporazumevajo skozi prostor in čas; ne povezuje le ljudi istega kraja in obdobja\, ampak generacije z generacijami in dobe z dobami ter je tako temeljni medij nenehnega kulturnega vzpona človeštva. \n  \nLetos poteka jubilejni 20. Festival lepopisja\, ki vsako leto uspešno spodbuja osnovnošolce iz vse Slovenije k ustvarjanju lepopisnih izdelkov z osebno noto. Najboljše izdelke tradicionalno razstavimo v protokolarnih prostorih Žičke kartuzije\, kjer so pred nekaj stoletji nastajali znameniti žički rokopisi. Festival\, na katerem se podelijo priznanja in nagrade najboljšim\, vedno pospremi simpatičen kulturni program\, ki bo letos še bolj poseben. \n  \nTema festivala 2024: »Žička kartuzija v verzih« (Temo posvečamo 100-letnici rojstva Ivana Minattija\, velikega slovenskega pesnika\, rojenega v Slovenskih Konjicah). \n  \nInformacije: TIC Slovenske Konjice\, 03 759 31 10 in 051 444 141\, info@tickonjice.si\, FB: TIC Slovenske Konjice in TIC Žička kartuzija\, IG: @ticslovenskekonjice in @zickakartuzija\, 03 752 37 32\, info@zickakartuzija.si.
URL:https://www.knjiznica-slovenskekonjice.si/dogodek/20-festival-lepopisja/
LOCATION:Žička Kartuzija\, Slovenia
CATEGORIES:Dogodek
ATTACH;FMTTYPE=image/jpeg:https://www.knjiznica-slovenskekonjice.si/wp-content/uploads/2024/09/10.-Festival-lepopisja_-foto-Matej-Nareks-scaled.jpg
ORGANIZER;CN="Center za kulturne prireditve":MAILTO:info@ckpkonjice.si
END:VEVENT
BEGIN:VEVENT
DTSTART;TZID=Europe/Ljubljana:20241013T190000
DTEND;TZID=Europe/Ljubljana:20241013T190000
DTSTAMP:20260420T230328
CREATED:20240925T075700Z
LAST-MODIFIED:20240925T075700Z
UID:21867-1728846000-1728846000@www.knjiznica-slovenskekonjice.si
SUMMARY:Abonma: Kako se znebiti bodočega moža
DESCRIPTION:NEDELJA\, 13. OKTOBER 2024\, 19.00 \nDOM KULTURE SLOVENSKE KONJICE\, DVORANA \nŠPAS TEATER \n  \nDve leti je\, kar je Silvija zapustila svojega Bojana. V odnosu vendar mora biti mnogo več od rutine\, kavča in Netflixa! Zagotovo obstaja tudi njen Romeo\, uspešen\, poln energije\, priročen in za piko na i še noro zaljubljen vanjo. A najti ‘pravega’ vseeno ni tako enostavno! Slednjič izbere bolj lahkoten pristop k iskanju. Poda se na ljubezensko avanturo najti moža in je pri tem – prekleto uspešna. Še preveč! \nKar trije bi lahko bili bodoči: ‘raketa od človeka’\, učitelj Sebastijan\, odvetnik Valter in Edi\, najboljši mizar v mestu – vsi so do konca zagreti\, da se bodo poročili z njo. Le nezvesta nevesta še ni povsem prepričana … Zabavni prizori si sledijo hitreje od vagonov dirjajočega vlaka in Silvija se v ljubezenskih igricah iz minute v minuto bolj zapleta. Eden pleza po balkonu\, drugi pride nenapovedano\, tretji popravlja v spalnici … Neizbežno je\, da bo kmalu prišlo do soočenja. Le kakšno bo? Kako bo Silvija krmarila v koktejlu moških\, kdo bo najbolj v šoku in zakaj ter katero potezo bo na koncu potegnila? Res težka odločitev! Mogoče jo lahko reši le koketna prijateljica Ema? \nZabavna komedija navdušuje s hitrostjo dogajanja in krmarjenja med obilico moških v stanovanju – z enim samim plemenitim ciljem – najti pravega moža. \nZgodba: Derek Benfield. \nPrevod\, priredba\, režija: Žiga Flajnik. \n  \nIgralska zasedba: \nMiha Brajnik\, \nMojca Fatur\, \nMario Ćulibrk\, \nMojca Funkl\, \nTadej Pišek.
URL:https://www.knjiznica-slovenskekonjice.si/dogodek/abonma-kako-se-znebiti-bodocega-moza/
LOCATION:Dom kulture Slovenske Konjice\, dvorana\, Mestni trg 4\, Slovenske Konjice
CATEGORIES:Dogodek
ATTACH;FMTTYPE=image/jpeg:https://www.knjiznica-slovenskekonjice.si/wp-content/uploads/2024/09/1.-Komedije_Kako-se-znebiti-bodocega-moza_Ocepek.jpg
ORGANIZER;CN="Center za kulturne prireditve":MAILTO:info@ckpkonjice.si
END:VEVENT
BEGIN:VEVENT
DTSTART;TZID=Europe/Ljubljana:20241021T180000
DTEND;TZID=Europe/Ljubljana:20241021T180000
DTSTAMP:20260420T230328
CREATED:20240925T091852Z
LAST-MODIFIED:20240925T091852Z
UID:21905-1729533600-1729533600@www.knjiznica-slovenskekonjice.si
SUMMARY:Trio Janus
DESCRIPTION:PONEDELJEK\, 21. OKTOBER 2024\, 18.00 \nDOM KULTURE SLOVENSKE KONJICE \nMATIJA KREČIČ\, EMA KREČIČ IN DAVORIN MORI \n  \nTrio Janus – violinist in skladatelj Matija Krečič\, violončelistka Ema Krečič in pianist ter eden najuspešnejših slovenskih dirigentov mlajše generacije Davorin Mori\, združuje vrhunske glasbenike mlajše generacije\, ki so se s svojim delovanjem na različnih glasbenih področjih dodobra uveljavili doma in v tujini. Ime so prevzeli po rimskem bogu z dvema obrazoma – eden gleda v preteklost\, drugi v prihodnost. Glasbeniki v svoj program uvrščajo predvsem dela\, napisana v zadnjih sto letih\, in preko njih povezujejo tradicijo s prihodnostjo. Tako izvajajo glasbo skladateljev Ravela\, Šostakoviča\, Rachmaninova … Med novejšimi deli v njihovem repertoarju posebno mesto zasedajo skladbe Matije Krečiča. \n  \nMatija Krečič – violina\, \nEma Krečič – violončelo\, \nDavorin Mori – klavir. \n  \nInformacije: Center za kulturne prireditve Slovenske Konjice\, 03 758 04 37\, \nFB: Center za kulturne prireditve Slovenske Konjice\, \nIG: @ckpslovenskekonjice.
URL:https://www.knjiznica-slovenskekonjice.si/dogodek/trio-janus/
LOCATION:Dom kulture Slovenske Konjice\, dvorana\, Mestni trg 4\, Slovenske Konjice
CATEGORIES:Dogodek
ATTACH;FMTTYPE=image/jpeg:https://www.knjiznica-slovenskekonjice.si/wp-content/uploads/2024/09/5.-Koncertni-cikel-pri-Didiju_Trio-Janus-3-_foto-Lucija-Jerman-scaled.jpg
ORGANIZER;CN="Center za kulturne prireditve":MAILTO:info@ckpkonjice.si
END:VEVENT
BEGIN:VEVENT
DTSTART;TZID=Europe/Ljubljana:20241024T180000
DTEND;TZID=Europe/Ljubljana:20241024T180000
DTSTAMP:20260420T230328
CREATED:20241011T104226Z
LAST-MODIFIED:20241011T104226Z
UID:21997-1729792800-1729792800@www.knjiznica-slovenskekonjice.si
SUMMARY:Pogovorni večer: Norma Bale
DESCRIPTION:24. oktober 2024\, 18.00Velika galerija Doma kulture Slovenske Konjice\nPOGOVORNI VEČERNORMA BALE\nPogovor bo vodil Kristian Koželj\n\nOrganizatorja: OI JSKD Slovenske Konjice in Splošna knjižnica Slovenske Konjice\n\nLiterarni večer z avtorico romana Agregat\, ki je lansko leto izšel pri založbi Pivec. Roman bralca potisne v svet sodobne slovenske politike. Skozi prvoosebno pripoved spremljamo učitelja Miroslava Gumpeka\, ki se pridruži novonastali stranki\, da bi prevetrili in rešili slovensko politično sceno. Avtorica\, sicer profesorica in nekdaj direktorica kulturnega zavoda\, je bila leta 2003 z romanom Sekstant že nominirana za kresnika – za najboljši roman leta v Sloveniji. V vmesnem času pa je izdala monodramo Halka\, dvojezično slikanico Rdeči balon\, ljubezenski roman Karamel in zbirko kratkih zgodb Ptice dronovke/Ftice dronovke.\n\nPo dogodku bo roman Agregat mogoče tudi kupiti pri predstavniku založbe Pivec.\n\nVstop prost!
URL:https://www.knjiznica-slovenskekonjice.si/dogodek/pogovorni-vecer-norma-bale/
LOCATION:Velika galerija Doma kulture Slovenske Konjice\, Mestni trg 4\, Slovenske Konjice\, 3210\, Slovenija
CATEGORIES:Dogodek
ATTACH;FMTTYPE=image/jpeg:https://www.knjiznica-slovenskekonjice.si/wp-content/uploads/2024/10/Cajanka.jpg
ORGANIZER;CN="Splo%C5%A1na Knji%C5%BEnica Slovenske Konjice":MAILTO:info@knjiznicakonjice.si
END:VEVENT
BEGIN:VEVENT
DTSTART;TZID=Europe/Ljubljana:20241026T100000
DTEND;TZID=Europe/Ljubljana:20241026T103000
DTSTAMP:20260420T230328
CREATED:20240925T090207Z
LAST-MODIFIED:20240925T090207Z
UID:21888-1729936800-1729938600@www.knjiznica-slovenskekonjice.si
SUMMARY:Gozdovilimo
DESCRIPTION:SOBOTA\, 26. OKTOBER 2024\, 10.00 \nDOM KULTURE SLOVENSKE KONJICE\, DVORANA \nDRUŠTVO LUTKOVNIH USTVARJALCEV \n  \nPod zemljo med prepletenimi koreninami dan za nočjo marljivo garajo glive. Za svoje ljubo drevo skrbi Gozdovilčica\, kadar se ravno ne občuduje v zrcalu ali se ne prepira s Staro Grčo. Tako pod zemljo kot na svetlem v krošnji je vse v ravnovesju\, dokler … dokler radovedna gliva Gufi ne odkrije\, da obstaja še kaj drugega kot garanje. Vse se postavi na glavo\, ko tudi glive začnejo zahtevati drevesne lepote zase. Bo drevo sploh še lahko dom vseh\, ko Stara Grča zaradi gozdoviljenja sploh ne more več spati\, ko jih napade plesen in se Gozdovilčici od panike skoraj meša\, za povrh pa se bliskovito prikažejo še zagnani strupki? Bodo stvari šle tako daleč\, da bo celo vsega vajena Stara Grča izgubila potrpljenje? \nRežija: Katja Povše.\nAvtorica glasbe: Mateja Starič.\nLutkovna tehnologa in izdelovalca lutk: Žiga Lebar\, Iztok Hrga.\nIzdelava scenografije: Jos-Jože Zajc.\nKostumograf: Iztok Hrga. \nNastopa: Tina Oman. \n  \nInformacije: Center za kulturne prireditve Slovenske Konjice\, 03 758 04 37\, \nFB: Center za kulturne prireditve Slovenske Konjice\, \nIG: @ckpslovenskekonjice.
URL:https://www.knjiznica-slovenskekonjice.si/dogodek/gozdovilimo/
LOCATION:Dom kulture Slovenske Konjice\, dvorana\, Mestni trg 4\, Slovenske Konjice
CATEGORIES:Dogodek
ATTACH;FMTTYPE=image/jpeg:https://www.knjiznica-slovenskekonjice.si/wp-content/uploads/2024/09/3.-Mini_Gozdovilimo_Matej-Povse-1-1-1-1-1-scaled.jpg
ORGANIZER;CN="Center za kulturne prireditve":MAILTO:info@ckpkonjice.si
END:VEVENT
END:VCALENDAR