BEGIN:VCALENDAR
VERSION:2.0
PRODID:-//Knjižnica Slovenske Konjice - ECPv6.6.4.2//NONSGML v1.0//EN
CALSCALE:GREGORIAN
METHOD:PUBLISH
X-WR-CALNAME:Knjižnica Slovenske Konjice
X-ORIGINAL-URL:https://www.knjiznica-slovenskekonjice.si
X-WR-CALDESC:Dogodki za Knjižnica Slovenske Konjice
REFRESH-INTERVAL;VALUE=DURATION:PT1H
X-Robots-Tag:noindex
X-PUBLISHED-TTL:PT1H
BEGIN:VTIMEZONE
TZID:Europe/Ljubljana
BEGIN:DAYLIGHT
TZOFFSETFROM:+0100
TZOFFSETTO:+0200
TZNAME:CEST
DTSTART:20260329T010000
END:DAYLIGHT
BEGIN:STANDARD
TZOFFSETFROM:+0200
TZOFFSETTO:+0100
TZNAME:CET
DTSTART:20261025T010000
END:STANDARD
END:VTIMEZONE
BEGIN:VEVENT
DTSTART;TZID=Europe/Ljubljana:20260422T193000
DTEND;TZID=Europe/Ljubljana:20260422T193000
DTSTAMP:20260422T024044
CREATED:20250924T125250Z
LAST-MODIFIED:20260416T113837Z
UID:22714-1776886200-1776886200@www.knjiznica-slovenskekonjice.si
SUMMARY:Koncertni cikel pri Didiju: Pihalni orkester AG Ljubljana
DESCRIPTION:Pihalni orkester Akademije za glasbo Univerze v Ljubljani je bil ustanovljen v študijskem letu 1992/93. Sestavlja ga približno 75 študentov pihal\, trobil in tolkal\, pa tudi godal in drugih instrumentov s strunami ter instrumentov s tipkami. Njegov dirigent in umetniški vodja je bil ob ustanovitvi prof. Milivoj Šurbek. Leta 2014 je kot skrbnik orkestra nastopil asist. Simon Dvoršak\, v letu 2015 je to vlogo prevzel doc. Marko Hribernik\, leta 2017 pa prof. Miha Rogina. \nRepertoar orkestra zajema širok spekter standardne klasične in sodobne literature\, posega pa tudi po popularnem in jazzy stilu. Pozornost posveča slovenskim skladbam za to zasedbo\, predvsem v sodelovanju z Oddelkom za kompozicijo UL AG. Mladim glasbenikom daje možnost\, da se na podlagi uspešno opravljene avdicije z orkestrom predstavijo kot solisti. \nOrkester je sodeloval z orkestrom in zborom Slovenske filharmonije\, Policijskim orkestrom in Orkestrom Slovenske vojske.
URL:https://www.knjiznica-slovenskekonjice.si/dogodek/koncertni-cikel-pri-didiju-pihalni-orkester-ag-ljubljana/
LOCATION:Dom kulture Slovenske Konjice\, dvorana\, Mestni trg 4\, Slovenske Konjice
CATEGORIES:Koncert
ATTACH;FMTTYPE=image/jpeg:https://www.knjiznica-slovenskekonjice.si/wp-content/uploads/2025/09/5.-Koncertni-cikel-pri-Didiju_Pihalni-orkester-foto-Eva_Mustafa-1-scaled.jpg
ORGANIZER;CN="Center za kulturne prireditve":MAILTO:info@ckpkonjice.si
END:VEVENT
END:VCALENDAR