BEGIN:VCALENDAR
VERSION:2.0
PRODID:-//Knjižnica Slovenske Konjice - ECPv6.6.4.2//NONSGML v1.0//EN
CALSCALE:GREGORIAN
METHOD:PUBLISH
X-WR-CALNAME:Knjižnica Slovenske Konjice
X-ORIGINAL-URL:https://www.knjiznica-slovenskekonjice.si
X-WR-CALDESC:Dogodki za Knjižnica Slovenske Konjice
REFRESH-INTERVAL;VALUE=DURATION:PT1H
X-Robots-Tag:noindex
X-PUBLISHED-TTL:PT1H
BEGIN:VTIMEZONE
TZID:Europe/Ljubljana
BEGIN:DAYLIGHT
TZOFFSETFROM:+0100
TZOFFSETTO:+0200
TZNAME:CEST
DTSTART:20260329T010000
END:DAYLIGHT
BEGIN:STANDARD
TZOFFSETFROM:+0200
TZOFFSETTO:+0100
TZNAME:CET
DTSTART:20261025T010000
END:STANDARD
END:VTIMEZONE
BEGIN:VEVENT
DTSTART;TZID=Europe/Ljubljana:20260421T190000
DTEND;TZID=Europe/Ljubljana:20260421T200000
DTSTAMP:20260421T015242
CREATED:20260216T071035Z
LAST-MODIFIED:20260216T071035Z
UID:23018-1776798000-1776801600@www.knjiznica-slovenskekonjice.si
SUMMARY:Zreče! Srečko Kosovel: med tišino in krikom
DESCRIPTION:Srečko Kosovel: med tišino in krikom\n21. april\, 2026\, 19.00Železniška postaja Zreče\n\nSrečko Kosovel ni bil le pesnik Krasa\, temveč mislec in vizionar\, ki je presegel prostor in čas. Njegovi stihi še danes odmevajo v tišini in kričijo po resnici.\nVabimo vas na večer\, kjer bomo skozi interpretacije dijakov prisluhnili zvenu Kosovelove besede\, v okviru okrogle mize pa z gosti odpirali vprašanja o tem\, kaj nam njegova misel pomeni danes.\n\nUdeležba je brezplačna.\n\nOrganizatorji:Splošna knjižnica Slovenske Konjice – enota Zreče\,Šolski center Slovenske Konjice – Zreče inMKUD Kladivo 11.
URL:https://www.knjiznica-slovenskekonjice.si/dogodek/zrece-srecko-kosovel-med-tisino-in-krikom/
LOCATION:Železniška postaja Zreče\, Kovaška cesta 31\, Zreče\, 3214
CATEGORIES:Dogodek
ATTACH;FMTTYPE=image/jpeg:https://www.knjiznica-slovenskekonjice.si/wp-content/uploads/2026/02/Srecko-Kosovel.jpg
ORGANIZER;CN="Splo%C5%A1na Knji%C5%BEnica Slovenske Konjice":MAILTO:info@knjiznicakonjice.si
END:VEVENT
END:VCALENDAR