BEGIN:VCALENDAR
VERSION:2.0
PRODID:-//Knjižnica Slovenske Konjice - ECPv6.6.4.2//NONSGML v1.0//EN
CALSCALE:GREGORIAN
METHOD:PUBLISH
X-WR-CALNAME:Knjižnica Slovenske Konjice
X-ORIGINAL-URL:https://www.knjiznica-slovenskekonjice.si
X-WR-CALDESC:Dogodki za Knjižnica Slovenske Konjice
REFRESH-INTERVAL;VALUE=DURATION:PT1H
X-Robots-Tag:noindex
X-PUBLISHED-TTL:PT1H
BEGIN:VTIMEZONE
TZID:Europe/Ljubljana
BEGIN:DAYLIGHT
TZOFFSETFROM:+0100
TZOFFSETTO:+0200
TZNAME:CEST
DTSTART:20250330T010000
END:DAYLIGHT
BEGIN:STANDARD
TZOFFSETFROM:+0200
TZOFFSETTO:+0100
TZNAME:CET
DTSTART:20251026T010000
END:STANDARD
END:VTIMEZONE
BEGIN:VEVENT
DTSTART;TZID=Europe/Ljubljana:20251021T180000
DTEND;TZID=Europe/Ljubljana:20251021T180000
DTSTAMP:20260421T170312
CREATED:20250924T121224Z
LAST-MODIFIED:20250924T121224Z
UID:22684-1761069600-1761069600@www.knjiznica-slovenskekonjice.si
SUMMARY:Koncertni cikel pri Didiju: ROYA Quartet
DESCRIPTION:ROYA Quartet je bil ustanovljen leta 2013 in je eden redkih ženskih saksofonskih kvartetov. Njegove članice – Petra Horvat (sopran)\, Weronika Partyka (alt)\, Betka Bizjak Kotnik (tenor) in Jovana Joka (bariton) – združujejo bogato mednarodno ozadje\, karizmo in virtuoznost. \nKvartet izvaja širok repertoar\, od standardnih del do sodobnih skladb\, ki so jih posebej zanje napisali številni skladatelji\, med njimi Nina Šenk\, Larisa Vrhunc\, Matej Bonin\, Johannes Kretz\, Margareta Ferek-Petrić\, Anna Maria Huszcza in Zvezdana Novaković. Projekta Ladies go Tango in Village Ladies sta izpostavila njihov ustvarjalni pristop in povezovanje različnih žanrov ter tradicij. \nNastopile so na pomembnih festivalih in prizoriščih po Evropi (Strasbourg\, Zagreb\, Ljubljana\, Varaždin\, Pula\, Pariz\, Beograd …) ter na turneji v Argentini (2019). Kritika njihove interpretacije opisuje kot temperamentne\, prepričljive in občutljive. \nROYA Quartet je sodeloval tudi pri posnetkih za zgoščenke Art (Nina Šenk)\, wydziwiAnka (Anna Maria Huszcza) in Slovena Voices (Zvezdana Novaković). \n  \nPetra Horvat – sopran saksofon\, \nWeronika Partyka – alt saksofon\, \nBetka Bizjak Kotnik – tenor saksofon\, \nJovana Joka – bariton saksofon.
URL:https://www.knjiznica-slovenskekonjice.si/dogodek/koncertni-cikel-pri-didiju-roya-quartet/
LOCATION:Dom kulture Slovenske Konjice\, dvorana\, Mestni trg 4\, Slovenske Konjice
CATEGORIES:Koncert
ATTACH;FMTTYPE=image/jpeg:https://www.knjiznica-slovenskekonjice.si/wp-content/uploads/2025/09/5.-Koncertni-cikel-pri-Didiju-Roya-Quartet-osebni-arhiv-1-scaled.jpeg
ORGANIZER;CN="Center za kulturne prireditve":MAILTO:info@ckpkonjice.si
END:VEVENT
END:VCALENDAR