BEGIN:VCALENDAR
VERSION:2.0
PRODID:-//Knjižnica Slovenske Konjice - ECPv6.6.4.2//NONSGML v1.0//EN
CALSCALE:GREGORIAN
METHOD:PUBLISH
X-ORIGINAL-URL:https://www.knjiznica-slovenskekonjice.si
X-WR-CALDESC:Dogodki za Knjižnica Slovenske Konjice
REFRESH-INTERVAL;VALUE=DURATION:PT1H
X-Robots-Tag:noindex
X-PUBLISHED-TTL:PT1H
BEGIN:VTIMEZONE
TZID:Europe/Ljubljana
BEGIN:DAYLIGHT
TZOFFSETFROM:+0100
TZOFFSETTO:+0200
TZNAME:CEST
DTSTART:20250330T010000
END:DAYLIGHT
BEGIN:STANDARD
TZOFFSETFROM:+0200
TZOFFSETTO:+0100
TZNAME:CET
DTSTART:20251026T010000
END:STANDARD
END:VTIMEZONE
BEGIN:VEVENT
DTSTART;TZID=Europe/Ljubljana:20250822T210000
DTEND;TZID=Europe/Ljubljana:20250822T210000
DTSTAMP:20260421T025035
CREATED:20240925T100251Z
LAST-MODIFIED:20240925T100304Z
UID:21929-1755896400-1755896400@www.knjiznica-slovenskekonjice.si
SUMMARY:Vraževerje
DESCRIPTION:PETEK\, 22. AVGUST 2025\, 21.00 \nSLOVENSKE KONJICE \n  \nNjihovo glasbo bi lahko opisali kot misteriozno kombinacijo zvokov\, zavitih v tančico teme. Pridevniki\, s katerimi bi lahko označili njihovo glasbo\, so teatralna\, drugačna in predvsem polna skrivnosti. Navdih črpajo iz teatra\, tako da je sama izvedba glasbenega nastopa hkrati tudi performans. \nVraževerje je vera v življenje. Vraževerje vrača življenju vero. Daje mu verjetnost\, da se bo v njem nekaj zgodilo. Nekaj čudnega. Nekaj drugačnega\, čudežnega. \nČas je\, da se nekaj drugačnega zgodi tudi na Poletnici v Slovenskih Konjicah. \nMiha Slapnik – kitara\, vokal\, \nLeo Gaberšek – kitara\, back vokal\, \nBlaž Kokol – harmonika\, back vokal\, \nSebastijan Starc – bass \, back vokal\, \nDomen Godec – bobni. \n  \nInformacije: Center za kulturne prireditve Slovenske Konjice\, 03 758 04 37\, \nFB: Center za kulturne prireditve Slovenske Konjice\, \nIG: @ckpslovenskekonjice.
URL:https://www.knjiznica-slovenskekonjice.si/dogodek/vrazeverje/
LOCATION:Slovenske Konjice\, 3210\, Slovenija
CATEGORIES:Dogodek
ATTACH;FMTTYPE=image/jpeg:https://www.knjiznica-slovenskekonjice.si/wp-content/uploads/2024/09/7.-Poletnice_Vrazeverje_arhiv-Vrazeverje.jpg
ORGANIZER;CN="Center za kulturne prireditve":MAILTO:info@ckpkonjice.si
END:VEVENT
END:VCALENDAR