BEGIN:VCALENDAR
VERSION:2.0
PRODID:-//Knjižnica Slovenske Konjice - ECPv6.6.4.2//NONSGML v1.0//EN
CALSCALE:GREGORIAN
METHOD:PUBLISH
X-WR-CALNAME:Knjižnica Slovenske Konjice
X-ORIGINAL-URL:https://www.knjiznica-slovenskekonjice.si
X-WR-CALDESC:Dogodki za Knjižnica Slovenske Konjice
REFRESH-INTERVAL;VALUE=DURATION:PT1H
X-Robots-Tag:noindex
X-PUBLISHED-TTL:PT1H
BEGIN:VTIMEZONE
TZID:Europe/Ljubljana
BEGIN:DAYLIGHT
TZOFFSETFROM:+0100
TZOFFSETTO:+0200
TZNAME:CEST
DTSTART:20250330T010000
END:DAYLIGHT
BEGIN:STANDARD
TZOFFSETFROM:+0200
TZOFFSETTO:+0100
TZNAME:CET
DTSTART:20251026T010000
END:STANDARD
END:VTIMEZONE
BEGIN:VEVENT
DTSTART;TZID=Europe/Ljubljana:20250627T210000
DTEND;TZID=Europe/Ljubljana:20250627T210000
DTSTAMP:20260420T211345
CREATED:20240925T095726Z
LAST-MODIFIED:20240925T095726Z
UID:21923-1751058000-1751058000@www.knjiznica-slovenskekonjice.si
SUMMARY:The Saraphines
DESCRIPTION:PETEK\, 27. JUNIJ 2025\, 21.00 \nSLOVENSKE KONJICE \n  \nAlen Kovše in Sara Lamprečnik sestavljata nov soft rock bend THE SARAPHINES\, ki se vrača zvokom 70. in 80. v moderni preobleki. Ta nadarjeni par prinaša na odre nostalgično mešanico pop\, rock in country melodij\, ki vas bodo ponesle nazaj v zlato dobo glasbe. \nDo poletja 2025 načrtujeta izdati prvi album\, ki ga bosta predstavila tudi na Poletnici v Slovenskih Konjicah. \n  \nSara Lamprečnik – vokal\, \nAlen Kovše – kitara\, vokal. \n  \nInformacije: Center za kulturne prireditve Slovenske Konjice\, 03 758 04 37\, \nFB: Center za kulturne prireditve Slovenske Konjice\, \nIG: @ckpslovenskekonjice.
URL:https://www.knjiznica-slovenskekonjice.si/dogodek/the-saraphines/
LOCATION:Slovenske Konjice\, 3210\, Slovenija
CATEGORIES:Dogodek
ATTACH;FMTTYPE=image/jpeg:https://www.knjiznica-slovenskekonjice.si/wp-content/uploads/2024/09/7.-Poletnice_The-Saraphines_arhiv-The-Saraphines-scaled.jpeg
ORGANIZER;CN="Center za kulturne prireditve":MAILTO:info@ckpkonjice.si
END:VEVENT
END:VCALENDAR