BEGIN:VCALENDAR
VERSION:2.0
PRODID:-//Knjižnica Slovenske Konjice - ECPv6.6.4.2//NONSGML v1.0//EN
CALSCALE:GREGORIAN
METHOD:PUBLISH
X-ORIGINAL-URL:https://www.knjiznica-slovenskekonjice.si
X-WR-CALDESC:Dogodki za Knjižnica Slovenske Konjice
REFRESH-INTERVAL;VALUE=DURATION:PT1H
X-Robots-Tag:noindex
X-PUBLISHED-TTL:PT1H
BEGIN:VTIMEZONE
TZID:Europe/Ljubljana
BEGIN:DAYLIGHT
TZOFFSETFROM:+0100
TZOFFSETTO:+0200
TZNAME:CEST
DTSTART:20250330T010000
END:DAYLIGHT
BEGIN:STANDARD
TZOFFSETFROM:+0200
TZOFFSETTO:+0100
TZNAME:CET
DTSTART:20251026T010000
END:STANDARD
END:VTIMEZONE
BEGIN:VEVENT
DTSTART;TZID=Europe/Ljubljana:20250604T190000
DTEND;TZID=Europe/Ljubljana:20250604T200000
DTSTAMP:20260420T211337
CREATED:20250514T134508Z
LAST-MODIFIED:20250526T072011Z
UID:22424-1749063600-1749067200@www.knjiznica-slovenskekonjice.si
SUMMARY:Koncert samospevov - Brede Šček
DESCRIPTION:Koncert samospevov Brede Šček\nSreda\, 4. 6. 2025\, 19.00\nDom kulture Slovenske Konjice\n  \nPonovitev koncerta še v Slovenskih Konjicah!
URL:https://www.knjiznica-slovenskekonjice.si/dogodek/koncert-samospevov-brede-scek/
LOCATION:Dom kulture Slovenske Konjice\, dvorana\, Mestni trg 4\, Slovenske Konjice
CATEGORIES:Dogodek
ATTACH;FMTTYPE=image/jpeg:https://www.knjiznica-slovenskekonjice.si/wp-content/uploads/2025/05/Koncert-samospevov-novo.jpeg
ORGANIZER;CN="Splo%C5%A1na Knji%C5%BEnica Slovenske Konjice":MAILTO:info@knjiznicakonjice.si
END:VEVENT
END:VCALENDAR