BEGIN:VCALENDAR
VERSION:2.0
PRODID:-//Knjižnica Slovenske Konjice - ECPv6.6.4.2//NONSGML v1.0//EN
CALSCALE:GREGORIAN
METHOD:PUBLISH
X-WR-CALNAME:Knjižnica Slovenske Konjice
X-ORIGINAL-URL:https://www.knjiznica-slovenskekonjice.si
X-WR-CALDESC:Dogodki za Knjižnica Slovenske Konjice
REFRESH-INTERVAL;VALUE=DURATION:PT1H
X-Robots-Tag:noindex
X-PUBLISHED-TTL:PT1H
BEGIN:VTIMEZONE
TZID:Europe/Ljubljana
BEGIN:DAYLIGHT
TZOFFSETFROM:+0100
TZOFFSETTO:+0200
TZNAME:CEST
DTSTART:20250330T010000
END:DAYLIGHT
BEGIN:STANDARD
TZOFFSETFROM:+0200
TZOFFSETTO:+0100
TZNAME:CET
DTSTART:20251026T010000
END:STANDARD
END:VTIMEZONE
BEGIN:VEVENT
DTSTART;TZID=Europe/Ljubljana:20250426T100000
DTEND;TZID=Europe/Ljubljana:20250426T100000
DTSTAMP:20260420T173608
CREATED:20240925T102212Z
LAST-MODIFIED:20240925T102212Z
UID:21938-1745661600-1745661600@www.knjiznica-slovenskekonjice.si
SUMMARY:Jurjevanje in Jurijev festival kulinarike in rokodelstva
DESCRIPTION:SOBOTA\, 26. APRIL 2025 \nSLOVENSKE KONJICE \n  \nTradicija jurjevanja v čast svetemu Juriju\, zavetniku našega mesta\, šteje že preko dvajset let. Na ta dan oživi stara legenda o konjiškem zmaju\, ki je zase zahteval mlado in lepo deklico Marjetico. Obujanje legende je preraslo v imenitno tradicionalno jurjevanje\, ki bo tudi tokrat obogateno z Jurijevim festivalom kulinarike in rokodelstva. Razvajali vas bomo z odlično kulinariko gostinskih ponudnikov Turistične destinacije Rogla-Pohorje\, avtentičnim kulturnim programom raznih domačih ustvarjalcev\, na stojnicah pa se bodo predstavili številni lokalni ponudniki prehranskih in rokodelskih izdelkov z znakom kakovosti Okusi Rogle. Dogajanje bodo popestrile vožnje s kočijami\, razstava malih pasemskih živali\, knjižnica semen in razne aktivnosti za najmlajše. Prireditev kot celota je v letu 2023 pridobila znak kakovosti Okusi Rogle. \n  \nV primeru padavin bo Jurijev festival kulinarike in rokodelstva v nedeljo\, 29. junija 2025. \n  \nInformacije: Center za kulturne prireditve Slovenske Konjice\, 03 758 04 37\, \nFB: Center za kulturne prireditve Slovenske Konjice\, \nIG: @ckpslovenskekonjice\, \nTIC Slovenske Konjice\, 03 759 31 10\, FB: TIC Slovenske Konjice\, IG: @ticslovenskekonjice.
URL:https://www.knjiznica-slovenskekonjice.si/dogodek/jurjevanje-in-jurijev-festival-kulinarike-in-rokodelstva/
LOCATION:Slovenske Konjice\, 3210\, Slovenija
CATEGORIES:Dogodek
ATTACH;FMTTYPE=image/jpeg:https://www.knjiznica-slovenskekonjice.si/wp-content/uploads/2024/09/13.-Ohranjamo-tradicijo_Martinovanje-2023-SK-FOTO-Matej-Nareks-1-scaled.jpg
ORGANIZER;CN="Center za kulturne prireditve":MAILTO:info@ckpkonjice.si
END:VEVENT
END:VCALENDAR