BEGIN:VCALENDAR
VERSION:2.0
PRODID:-//Knjižnica Slovenske Konjice - ECPv6.6.4.2//NONSGML v1.0//EN
CALSCALE:GREGORIAN
METHOD:PUBLISH
X-WR-CALNAME:Knjižnica Slovenske Konjice
X-ORIGINAL-URL:https://www.knjiznica-slovenskekonjice.si
X-WR-CALDESC:Dogodki za Knjižnica Slovenske Konjice
REFRESH-INTERVAL;VALUE=DURATION:PT1H
X-Robots-Tag:noindex
X-PUBLISHED-TTL:PT1H
BEGIN:VTIMEZONE
TZID:Europe/Ljubljana
BEGIN:DAYLIGHT
TZOFFSETFROM:+0100
TZOFFSETTO:+0200
TZNAME:CEST
DTSTART:20250330T010000
END:DAYLIGHT
BEGIN:STANDARD
TZOFFSETFROM:+0200
TZOFFSETTO:+0100
TZNAME:CET
DTSTART:20251026T010000
END:STANDARD
END:VTIMEZONE
BEGIN:VEVENT
DTSTART;TZID=Europe/Ljubljana:20250424T180000
DTEND;TZID=Europe/Ljubljana:20250424T180000
DTSTAMP:20260420T173515
CREATED:20250410T111945Z
LAST-MODIFIED:20250410T115327Z
UID:22352-1745517600-1745517600@www.knjiznica-slovenskekonjice.si
SUMMARY:Odprtje razstave Vesne Drnovšek in Nataše Mirtič: Dve za grafiko
DESCRIPTION:DVE ZA GRAFIKOrazstava grafik\n\n24. 4. 2025\, 18.00\, Velika galerija Doma kulture Slovenske Konjice\n\nAvtorici: Vesna Drnovšek in Nataša Mirtič\n\nVesna Drnovšek je bila rojena leta 1973 v Trbovljah. Leta1997 diplomirala na ljubljanski Akademiji za likovno umetnost in oblikovanje pri profesorju Andreju Jemcu\, smer slikarstvo. Na isti akademiji je leta 2001 pri profesorju Lojzetu Logarju zaključila še magistrski študij grafike. Živi in dela v Ljubljani.\n\nNataša Mirtič je bila rojena leta 1973 v Novem mestu. Leta 1997 je diplomirala iz slikarstva na Akademiji za likovno umetnost in oblikovanje v Ljubljani\, leta 2001 pa končala še magisterij iz grafike. V svoji likovni praksi se primarno posveča jedkanici. Živi in dela v Novem mestu\, kot samostojna ustvarjalka v kulturi.\n\nInformacije: Center za kulturne prireditve Slovenske Konjice\, 03 758 04 37.
URL:https://www.knjiznica-slovenskekonjice.si/dogodek/odprtje-razstave-vesne-drnovsek-in-natase-mirtic-dve-za-grafiko/
LOCATION:Velika galerija Doma kulture Slovenske Konjice\, Mestni trg 4\, Slovenske Konjice\, 3210\, Slovenija
CATEGORIES:Dogodek
ATTACH;FMTTYPE=image/jpeg:https://www.knjiznica-slovenskekonjice.si/wp-content/uploads/2025/04/FB_HD_Razstava-Dve-za-grafiko_7.4.2025.jpg
ORGANIZER;CN="Center za kulturne prireditve":MAILTO:info@ckpkonjice.si
END:VEVENT
END:VCALENDAR