BEGIN:VCALENDAR
VERSION:2.0
PRODID:-//Knjižnica Slovenske Konjice - ECPv6.6.4.2//NONSGML v1.0//EN
CALSCALE:GREGORIAN
METHOD:PUBLISH
X-WR-CALNAME:Knjižnica Slovenske Konjice
X-ORIGINAL-URL:https://www.knjiznica-slovenskekonjice.si
X-WR-CALDESC:Dogodki za Knjižnica Slovenske Konjice
REFRESH-INTERVAL;VALUE=DURATION:PT1H
X-Robots-Tag:noindex
X-PUBLISHED-TTL:PT1H
BEGIN:VTIMEZONE
TZID:Europe/Ljubljana
BEGIN:DAYLIGHT
TZOFFSETFROM:+0100
TZOFFSETTO:+0200
TZNAME:CEST
DTSTART:20250330T010000
END:DAYLIGHT
BEGIN:STANDARD
TZOFFSETFROM:+0200
TZOFFSETTO:+0100
TZNAME:CET
DTSTART:20251026T010000
END:STANDARD
END:VTIMEZONE
BEGIN:VEVENT
DTSTART;TZID=Europe/Ljubljana:20250417T180000
DTEND;TZID=Europe/Ljubljana:20250417T180000
DTSTAMP:20260420T174431
CREATED:20250401T121314Z
LAST-MODIFIED:20250401T121314Z
UID:22340-1744912800-1744912800@www.knjiznica-slovenskekonjice.si
SUMMARY:Pozabite vse\, kar veste o spominu - zabavna predstavitev knjige Nika Škrleca
DESCRIPTION:Pozabite vse\, kar veste o spominuZabavna predstavitev knjige\n\nKako deluje naš spomin? Zakaj se nekaterih stvari spomnimo za vedno\, drugih pa ne moremo priklicati niti po nekaj sekundah? In – najpomembnejše – kako lahko svoj spomin izboljšamo?\nPridružite se nam na zabavnem dogodku\, kjer bo Nik Škrlec predstavil glavne poudarke svojega prvenca Pozabi vse\, kar veš o spominu. Knjiga je poljudnoznanstveno raziskovanje spomina\, ki združuje najnovejša psihološka dognanja in praktične napotke za vstop v svet tehnik pomnjenja. Dogodek pa je priložnost za druženje in širjenje obzorij. Nik je pripravil tudi nekaj presenečenj za vse prisotne\, da bo srečanje nepozabno!V svojem nastopu bo Nik razkril uvide tako iz svojega poklica\, kjer se zanaša na natančno pomnjenje\, kot tudi iz svojih spominskih podvigov in strokovne literature. Gotovo vam bodo spremenili vaš pogled na spomin in vam pomagali\, ne glede na to ali ste v šoli\, na fakulteti\, v službi ali ponosno upokojeni. Spomin uporabljamo in krepimo ves čas. Neverjeten je. Z nami je v službi\, šoli\, prostem času in celo\, ko spimo. Povezan je z našo identiteto\, samopodobo\, ustvarjalnostjo in tudi učnim uspehom. Dobro je\, če ga razumemo in znamo uporabljati.Ne zamudite priložnosti za navdihujoče srečanje in uporabne nasvete za vsakdanje življenje!\n—\nNik Škrlec je igralec\, TV-voditelj in strasten raziskovalec spomina. S svojo radovednostjo in nenehno željo po odkrivanju meja človeškega uma se je poglobil v svet pomnjenja ter postal eden vodilnih ambasadorjev mnemotehnik in miselnih veščin pri nas. V prvencu Pozabi vse\, kar veš o spominu združuje poljudnoznanstveni vpogled v delovanje spomina in praktične metode za njegovo izboljšanje. Nik je znan po svojih spominskih podvigih\, kot so slepo sestavljanje 9 rubikovih kock\, rekord v recitiranju 3141 decimalk števila pi in zmaga na državnem tekmovanju v pomnjenju\, pa tudi po njegovem radovednem duhu in sposobnosti\, da kompleksne teme predstavi na zanimiv in dostopen način. To je recept za navdihujoč dogodek!
URL:https://www.knjiznica-slovenskekonjice.si/dogodek/pozabite-vse-kar-veste-o-spominu-zabavna-predstavitev-knjige-nika-skrleca/
LOCATION:Dom kulture Slovenske Konjice\, dvorana\, Mestni trg 4\, Slovenske Konjice
CATEGORIES:Dogodek
ATTACH;FMTTYPE=image/png:https://www.knjiznica-slovenskekonjice.si/wp-content/uploads/2025/04/Dom-kulture-Slovenske-Konjice-17.-4.-2025-1800.png
ORGANIZER;CN="Center za kulturne prireditve":MAILTO:info@ckpkonjice.si
END:VEVENT
END:VCALENDAR