BEGIN:VCALENDAR
VERSION:2.0
PRODID:-//Knjižnica Slovenske Konjice - ECPv6.6.4.2//NONSGML v1.0//EN
CALSCALE:GREGORIAN
METHOD:PUBLISH
X-WR-CALNAME:Knjižnica Slovenske Konjice
X-ORIGINAL-URL:https://www.knjiznica-slovenskekonjice.si
X-WR-CALDESC:Dogodki za Knjižnica Slovenske Konjice
REFRESH-INTERVAL;VALUE=DURATION:PT1H
X-Robots-Tag:noindex
X-PUBLISHED-TTL:PT1H
BEGIN:VTIMEZONE
TZID:Europe/Ljubljana
BEGIN:DAYLIGHT
TZOFFSETFROM:+0100
TZOFFSETTO:+0200
TZNAME:CEST
DTSTART:20250330T010000
END:DAYLIGHT
BEGIN:STANDARD
TZOFFSETFROM:+0200
TZOFFSETTO:+0100
TZNAME:CET
DTSTART:20251026T010000
END:STANDARD
END:VTIMEZONE
BEGIN:VEVENT
DTSTART;TZID=Europe/Ljubljana:20250325T180000
DTEND;TZID=Europe/Ljubljana:20250325T190000
DTSTAMP:20260420T155606
CREATED:20250324T071913Z
LAST-MODIFIED:20250324T071913Z
UID:22312-1742925600-1742929200@www.knjiznica-slovenskekonjice.si
SUMMARY:Predstavitev knjige: Lili Knafelc - Prebujena v novo življenje
DESCRIPTION:Torek\, 25. 3. 2025\, 18.00 v Domu kulture Slovenske KonjiceLILI KNAFELCPredstavitev knjige: Prebujena v novo življenje\n\n“Moja zgodba je zgodba o padcu in vstajenju. O tem\, kako me je življenje prebudilo skozi izkušnjo\, ki mi je vzela vse iluzije\, a mi vrnila nekaj neprecenljivega – mene samo.Zato vas z vsem srcem vabim na predstavitev moje knjige\, kjer bom z vami delila svojo pot.” Lili Knafelc\nDogodek bo povezovala Maja Furman.\n\nGlasbeni gostje: skupina Erosi.\nNa dogodku bo glasbena spremljava.\n\nVstop prost!\nInfo.: Splošna knjižnica Slovenske Konjice
URL:https://www.knjiznica-slovenskekonjice.si/dogodek/predstavitev-knjige-lili-knafelc-prebujena-v-novo-zivljenje/
LOCATION:Dom kulture Slovenske Konjice\, dvorana\, Mestni trg 4\, Slovenske Konjice
CATEGORIES:Dogodek
ATTACH;FMTTYPE=image/jpeg:https://www.knjiznica-slovenskekonjice.si/wp-content/uploads/2025/03/Lili-Knafelc.jpg
END:VEVENT
END:VCALENDAR