BEGIN:VCALENDAR
VERSION:2.0
PRODID:-//Knjižnica Slovenske Konjice - ECPv6.6.4.2//NONSGML v1.0//EN
CALSCALE:GREGORIAN
METHOD:PUBLISH
X-ORIGINAL-URL:https://www.knjiznica-slovenskekonjice.si
X-WR-CALDESC:Dogodki za Knjižnica Slovenske Konjice
REFRESH-INTERVAL;VALUE=DURATION:PT1H
X-Robots-Tag:noindex
X-PUBLISHED-TTL:PT1H
BEGIN:VTIMEZONE
TZID:Europe/Ljubljana
BEGIN:DAYLIGHT
TZOFFSETFROM:+0100
TZOFFSETTO:+0200
TZNAME:CEST
DTSTART:20250330T010000
END:DAYLIGHT
BEGIN:STANDARD
TZOFFSETFROM:+0200
TZOFFSETTO:+0100
TZNAME:CET
DTSTART:20251026T010000
END:STANDARD
END:VTIMEZONE
BEGIN:VEVENT
DTSTART;TZID=Europe/Ljubljana:20250318T180000
DTEND;TZID=Europe/Ljubljana:20250318T190000
DTSTAMP:20260420T155705
CREATED:20250228T115458Z
LAST-MODIFIED:20250228T115458Z
UID:22302-1742320800-1742324400@www.knjiznica-slovenskekonjice.si
SUMMARY:Literarni večer: WILL GMEHLING
DESCRIPTION:LITERARNI VEČER S PISATELJEM IZ NEMČIJEWILL GMEHLINGPoletje na bazenu\nModeratorka in prevajalka: Alexandre Natalie Zaleznik\nDoletela nas je prav posebna čast\, saj bomo v Slovenskih Konjicah gostili nemškega avtorja Willa Gmehlinga. S podporo občine in na povabilo Goethe-Instituta Ljubljana ter prevajalke njegovih del\, Konjičanke Alexandre Natalie Zaleznik\, se bo nekaj dni mudil na konjiških šolah. Tako gimnazijci kot osnovnošolci bodo pod mentorstvom učiteljic prebirali otroški roman Poletje na bazenu\, ki je leta 2020 prejel nagrado Deutscher Jugendliteraturpreis. Na literarnem večeru se bomo z Willom Gmehlingom pogovarjali o romanu Poletje na bazenu\, o izzivih s katerimi se srečuje pri pisanju\, o njegovih bralnih potovanjih in seveda\, kako se počuti v Slovenskih Konjicah.\n\nKnjigi POLETJE NA BAZENU in V RINGU bo možno tudi kupiti\, na željo jih bo avtor tudi podpisal.\nVstop prost!
URL:https://www.knjiznica-slovenskekonjice.si/dogodek/literarni-vecer-will-gmehling/
LOCATION:Dom kulture Slovenske Konjice\, Mestni trg 4\, Slovenske Konjice\, 3210
CATEGORIES:Dogodek
ATTACH;FMTTYPE=image/jpeg:https://www.knjiznica-slovenskekonjice.si/wp-content/uploads/2025/02/will-ghme.jpg
ORGANIZER;CN="Splo%C5%A1na Knji%C5%BEnica Slovenske Konjice":MAILTO:info@knjiznicakonjice.si
END:VEVENT
END:VCALENDAR