BEGIN:VCALENDAR
VERSION:2.0
PRODID:-//Knjižnica Slovenske Konjice - ECPv6.6.4.2//NONSGML v1.0//EN
CALSCALE:GREGORIAN
METHOD:PUBLISH
X-WR-CALNAME:Knjižnica Slovenske Konjice
X-ORIGINAL-URL:https://www.knjiznica-slovenskekonjice.si
X-WR-CALDESC:Dogodki za Knjižnica Slovenske Konjice
REFRESH-INTERVAL;VALUE=DURATION:PT1H
X-Robots-Tag:noindex
X-PUBLISHED-TTL:PT1H
BEGIN:VTIMEZONE
TZID:Europe/Ljubljana
BEGIN:DAYLIGHT
TZOFFSETFROM:+0100
TZOFFSETTO:+0200
TZNAME:CEST
DTSTART:20250330T010000
END:DAYLIGHT
BEGIN:STANDARD
TZOFFSETFROM:+0200
TZOFFSETTO:+0100
TZNAME:CET
DTSTART:20251026T010000
END:STANDARD
END:VTIMEZONE
BEGIN:VEVENT
DTSTART;TZID=Europe/Ljubljana:20250307T180000
DTEND;TZID=Europe/Ljubljana:20250307T190000
DTSTAMP:20260420T155534
CREATED:20250224T084234Z
LAST-MODIFIED:20250224T090931Z
UID:22288-1741370400-1741374000@www.knjiznica-slovenskekonjice.si
SUMMARY:Fabula: Vinko Möderndorfer
DESCRIPTION:Fabula: Vinko Möderndorfer\n7. marec\, 18.00\nVelika galerija Doma kulture Slovenske Konjice\n\nVabimo vas\, da se nam pridružite na pogovoru z avtorjem Vinkom Möderndorferjem\, ki ga bo vodila Tonja Jelen.\nVstop prost!\n\nV okviru letošnjega Fabulinega izbora in meseca vseslovenskega branja bomo v partnerstvu z Društvom slovenskih literarnih kritikov in knjižnicami po Sloveniji v Splošni knjižnici Slovenske konjice predstavili roman Zvezda\, žlica in ura Vinka Möderndorferja. Knjiga je del izbora devetih najboljših knjižnih del slovenskih avtorjev zadnjih dveh let\, ki jih je izbrala skupina priznanih literarnih poznavalcev in kritikov oziroma kritičark: Maša Gams\, Gašper Stražišar in Mojca Pišek. Möderndorferjev roman je izpostavila kritičarka Maša Gams\, ki ga opisuje kot delo\, ki s svojo subtilnostjo\, stilistično dodelanostjo in čustveno globino izstopa v slovenskem literarnem prostoru.\n\nSkupaj bomo ugotavljali\, kako avtor prepleta osebne in kolektivne spomine\, briše meje med realnostjo in simboliko ter odpira vprašanja o pomenu ohranjanja zgodovinskih zgodb skozi literaturo. Pogovor bo ponudil vpogled v simbolno bogastvo romana\, ki prodre do bralčeve čustvene srži in ponuja nastavke za globlje razumevanje preteklosti in sedanjosti.
URL:https://www.knjiznica-slovenskekonjice.si/dogodek/fabula-vinko-moderndorfer/
LOCATION:Velika galerija Doma kulture Slovenske Konjice\, Mestni trg 4\, Slovenske Konjice\, 3210\, Slovenija
CATEGORIES:Dogodek
ATTACH;FMTTYPE=image/jpeg:https://www.knjiznica-slovenskekonjice.si/wp-content/uploads/2025/02/Vinko-Moderndorfer.jpg
ORGANIZER;CN="Splo%C5%A1na Knji%C5%BEnica Slovenske Konjice":MAILTO:info@knjiznicakonjice.si
END:VEVENT
END:VCALENDAR