BEGIN:VCALENDAR
VERSION:2.0
PRODID:-//Knjižnica Slovenske Konjice - ECPv6.6.4.2//NONSGML v1.0//EN
CALSCALE:GREGORIAN
METHOD:PUBLISH
X-ORIGINAL-URL:https://www.knjiznica-slovenskekonjice.si
X-WR-CALDESC:Dogodki za Knjižnica Slovenske Konjice
REFRESH-INTERVAL;VALUE=DURATION:PT1H
X-Robots-Tag:noindex
X-PUBLISHED-TTL:PT1H
BEGIN:VTIMEZONE
TZID:Europe/Ljubljana
BEGIN:DAYLIGHT
TZOFFSETFROM:+0100
TZOFFSETTO:+0200
TZNAME:CEST
DTSTART:20250330T010000
END:DAYLIGHT
BEGIN:STANDARD
TZOFFSETFROM:+0200
TZOFFSETTO:+0100
TZNAME:CET
DTSTART:20251026T010000
END:STANDARD
END:VTIMEZONE
BEGIN:VEVENT
DTSTART;TZID=Europe/Ljubljana:20250306T190000
DTEND;TZID=Europe/Ljubljana:20250306T190000
DTSTAMP:20260420T155653
CREATED:20240925T080744Z
LAST-MODIFIED:20240925T080744Z
UID:21875-1741287600-1741287600@www.knjiznica-slovenskekonjice.si
SUMMARY:Abonma: Paloma
DESCRIPTION:ČETRTEK\, 6. MAREC 2025\, 19.00 \nDOM KULTURE SLOVENSKE KONJICE\, DVORANA \nSLOVENSKO MLADINSKO GLEDALIŠČE \n  \nDuhovita grenko-sladka uprizoritev se naslanja na zgodbo o tovarni Paloma – Sladkogorska\, ki je proizvajala higienski papir za vso nekdanjo Jugoslavijo in ki je pravzaprav razlog\, da se je okoli nje razvilo naselje. Mlada ekipa ustvarjalcev se je lotila razmisleka o nostalgičnosti za socialističnim obdobjem\, za spominom\, vpisanim v generacije\, ki so ga okusile\, in tiste\, ki ga niso – ali predstava o nekdanjih »boljših« časih temelji na resničnosti ali je vse skupaj le utvara? Intimne zgodbe krajanov\, iz katerih izhaja\, pa hkrati odpirajo vrsto širših družbenih tem: Kako so politični projekti izgradnje krajev vplivali na življenja ljudi? Kakšna je v takem kontekstu usoda malega človeka? Kako s tem shajati danes? \n  \nIdeja in koncept: Brina Klampfer. \nDramaturgija: Kaja Blazinšek. \n  \nIgralska zasedba: \nDario Varga\, \nRomana Šalehar\, \nIztok Drabik Jug\, \nTamara Avguštin\, \nStane Tomazin\, \nDraga Potočnjak. \n  \nTadej Čaušević – bobni. \nLiam Hlede – kitara. \nMarijan Sajovic – bas kitara.
URL:https://www.knjiznica-slovenskekonjice.si/dogodek/abonma-paloma/
LOCATION:Dom kulture Slovenske Konjice\, dvorana\, Mestni trg 4\, Slovenske Konjice
CATEGORIES:Dogodek
ATTACH;FMTTYPE=image/jpeg:https://www.knjiznica-slovenskekonjice.si/wp-content/uploads/2024/09/1.-Komedije_Paloma_Zeljo-Stevanic.jpg
ORGANIZER;CN="Center za kulturne prireditve":MAILTO:info@ckpkonjice.si
END:VEVENT
END:VCALENDAR