BEGIN:VCALENDAR
VERSION:2.0
PRODID:-//Knjižnica Slovenske Konjice - ECPv6.6.4.2//NONSGML v1.0//EN
CALSCALE:GREGORIAN
METHOD:PUBLISH
X-ORIGINAL-URL:https://www.knjiznica-slovenskekonjice.si
X-WR-CALDESC:Dogodki za Knjižnica Slovenske Konjice
REFRESH-INTERVAL;VALUE=DURATION:PT1H
X-Robots-Tag:noindex
X-PUBLISHED-TTL:PT1H
BEGIN:VTIMEZONE
TZID:Europe/Ljubljana
BEGIN:DAYLIGHT
TZOFFSETFROM:+0100
TZOFFSETTO:+0200
TZNAME:CEST
DTSTART:20250330T010000
END:DAYLIGHT
BEGIN:STANDARD
TZOFFSETFROM:+0200
TZOFFSETTO:+0100
TZNAME:CET
DTSTART:20251026T010000
END:STANDARD
END:VTIMEZONE
BEGIN:VEVENT
DTSTART;TZID=Europe/Ljubljana:20250227T180000
DTEND;TZID=Europe/Ljubljana:20250227T193000
DTSTAMP:20260420T155653
CREATED:20250123T131715Z
LAST-MODIFIED:20250123T131715Z
UID:22209-1740679200-1740684600@www.knjiznica-slovenskekonjice.si
SUMMARY:Predavanje v Zrečah: Miša Pušenjak; Naravno varstvo vrtnin
DESCRIPTION:Predavanje: Naravno varstvo rastlin \nS katerimi zeliščnimi pripravki lahko zaščitimo rastline? \nMiša Pušenjak 27. 2. 2025\, 18.00 \nVečnamenska dvorana Hotela Zreče \n  \nMiša Pušenjak je specialistka za zelenjadarstvo in okrasne rastline pri KGZ Maribor. Je inženirka agronomije\, publicistka ter avtorica številnih vrtnarskih priročnikov.  \nOrganizatorica: Splošna knjižnica Slovenske Konjice\, enota Zreče.  \nVstop prost!  \nInfo.: Splošna knjižnica Slovenske Konjice\, 03 758 04 38.
URL:https://www.knjiznica-slovenskekonjice.si/dogodek/predavanje-v-zrecah-misa-pusenjak-naravno-varstvo-vrtnin/
LOCATION:Večnamenska dvorana Hotela Zreče\, Cesta na Roglo 15\, Zreče\, 3214
CATEGORIES:Dogodek
ATTACH;FMTTYPE=image/jpeg:https://www.knjiznica-slovenskekonjice.si/wp-content/uploads/2025/01/Misa-Pusenjak-zrece-scaled.jpg
ORGANIZER;CN="Splo%C5%A1na Knji%C5%BEnica Slovenske Konjice":MAILTO:info@knjiznicakonjice.si
END:VEVENT
END:VCALENDAR