BEGIN:VCALENDAR
VERSION:2.0
PRODID:-//Knjižnica Slovenske Konjice - ECPv6.6.4.2//NONSGML v1.0//EN
CALSCALE:GREGORIAN
METHOD:PUBLISH
X-WR-CALNAME:Knjižnica Slovenske Konjice
X-ORIGINAL-URL:https://www.knjiznica-slovenskekonjice.si
X-WR-CALDESC:Dogodki za Knjižnica Slovenske Konjice
REFRESH-INTERVAL;VALUE=DURATION:PT1H
X-Robots-Tag:noindex
X-PUBLISHED-TTL:PT1H
BEGIN:VTIMEZONE
TZID:Europe/Ljubljana
BEGIN:DAYLIGHT
TZOFFSETFROM:+0100
TZOFFSETTO:+0200
TZNAME:CEST
DTSTART:20250330T010000
END:DAYLIGHT
BEGIN:STANDARD
TZOFFSETFROM:+0200
TZOFFSETTO:+0100
TZNAME:CET
DTSTART:20251026T010000
END:STANDARD
END:VTIMEZONE
BEGIN:VEVENT
DTSTART;TZID=Europe/Ljubljana:20250221T170000
DTEND;TZID=Europe/Ljubljana:20250221T170000
DTSTAMP:20260420T173426
CREATED:20250128T122532Z
LAST-MODIFIED:20250128T122705Z
UID:22216-1740157200-1740157200@www.knjiznica-slovenskekonjice.si
SUMMARY:Kino Loče: Miraculous - Pikapolona in Črni maček
DESCRIPTION:Ko življenje postane težko\, včasih potrebuješ le malce sreče.Ugotovite\, kako se je vse začelo …\n\nSvetovni fenomen zdaj prihaja tudi na veliko platno! Prihaja namreč animirani celovečerni film o dogodivščinah vsem dobro znanih Pikapolone in Črnega mačka v animirani akcijski pustolovščini Miraculous: Pikapolona & Črni maček.\nNa režiserki stolček očarljive animirane in glasbene zgodbe je sedel Jeremy Zag\, ki je skupaj z Bettino Lopez Mendozo tudi napisal scenarij. Zgodba se dogaja v sodobnem Parizu in predstavlja začetek superjunaških dogodivščin Marjetke in Adrijena kot Pikapolone in Črnega mačka.\nŽivljenje običajne najstnice Marjetke v Parizu se popolnoma spremeni\, ko se lahko s pomočjo čudežnega dragulja spremeni v superjunakinjo Pikapolono. Ker ima čarobno moč ustvarjanja\, združi svoje moči s svojim čistim nasprotjem – Adrijenom\, ki se spremeni v Črnega mačka\, da bi skupaj rešila Pariz pred kaosom\, ki ga je v mestu sprožil novi zlobnež.\nDomišljijska pustolovščina\, polna osupljivih pokrajin\, izpostavlja akcijo\, humor in romantiko v zgodbi o samozavesti\, pogumu in neizmerni moči ljubezni.\n\nVstopnice: 5 €.Prodaja vstopnic eno uro pred pričetkom.
URL:https://www.knjiznica-slovenskekonjice.si/dogodek/kino-loce-miraculous-pikapolona-in-crni-macek/
LOCATION:Kulturni dom Loče\, dvorana\, Stari trg 15\, Loče\, 3215\, Slovenija
CATEGORIES:Dogodek
ATTACH;FMTTYPE=image/jpeg:https://www.knjiznica-slovenskekonjice.si/wp-content/uploads/2025/01/FB_HD_Kino-FEBRUAR-Pikapolona-CKPSK_23.1.2025.jpg
ORGANIZER;CN="Center za kulturne prireditve":MAILTO:info@ckpkonjice.si
END:VEVENT
END:VCALENDAR