BEGIN:VCALENDAR
VERSION:2.0
PRODID:-//Knjižnica Slovenske Konjice - ECPv6.6.4.2//NONSGML v1.0//EN
CALSCALE:GREGORIAN
METHOD:PUBLISH
X-WR-CALNAME:Knjižnica Slovenske Konjice
X-ORIGINAL-URL:https://www.knjiznica-slovenskekonjice.si
X-WR-CALDESC:Dogodki za Knjižnica Slovenske Konjice
REFRESH-INTERVAL;VALUE=DURATION:PT1H
X-Robots-Tag:noindex
X-PUBLISHED-TTL:PT1H
BEGIN:VTIMEZONE
TZID:Europe/Ljubljana
BEGIN:DAYLIGHT
TZOFFSETFROM:+0100
TZOFFSETTO:+0200
TZNAME:CEST
DTSTART:20250330T010000
END:DAYLIGHT
BEGIN:STANDARD
TZOFFSETFROM:+0200
TZOFFSETTO:+0100
TZNAME:CET
DTSTART:20251026T010000
END:STANDARD
END:VTIMEZONE
BEGIN:VEVENT
DTSTART;TZID=Europe/Ljubljana:20250219T100000
DTEND;TZID=Europe/Ljubljana:20250219T110000
DTSTAMP:20260420T174449
CREATED:20250218T080158Z
LAST-MODIFIED:20250218T080158Z
UID:22280-1739959200-1739962800@www.knjiznica-slovenskekonjice.si
SUMMARY:Počitniške ustvarjalne delavnice
DESCRIPTION:Počitniške ustvarjalne delavnice \nSplošna knjižnica Slovenske Konjice\nSreda\, 19. 2. 2025\, 10.00\n  \nDelavnice so primerne za otroke med 6 in 9 let. Delavnice bodo potekale v Mali galeriji Doma kulture Slovenske Konjice. \nUdeležba je brezplačna.
URL:https://www.knjiznica-slovenskekonjice.si/dogodek/pocitniske-ustvarjalne-delavnice/
LOCATION:Mala galerija Doma kulture Slovenske Konjice\, Mestni trg 4\, Slovenske Konjice\, 3210\, Slovenija
CATEGORIES:Dogodek
ATTACH;FMTTYPE=image/jpeg:https://www.knjiznica-slovenskekonjice.si/wp-content/uploads/2025/02/IMG_5110.jpeg
ORGANIZER;CN="Splo%C5%A1na Knji%C5%BEnica Slovenske Konjice":MAILTO:info@knjiznicakonjice.si
END:VEVENT
END:VCALENDAR