BEGIN:VCALENDAR
VERSION:2.0
PRODID:-//Knjižnica Slovenske Konjice - ECPv6.6.4.2//NONSGML v1.0//EN
CALSCALE:GREGORIAN
METHOD:PUBLISH
X-WR-CALNAME:Knjižnica Slovenske Konjice
X-ORIGINAL-URL:https://www.knjiznica-slovenskekonjice.si
X-WR-CALDESC:Dogodki za Knjižnica Slovenske Konjice
REFRESH-INTERVAL;VALUE=DURATION:PT1H
X-Robots-Tag:noindex
X-PUBLISHED-TTL:PT1H
BEGIN:VTIMEZONE
TZID:Europe/Ljubljana
BEGIN:DAYLIGHT
TZOFFSETFROM:+0100
TZOFFSETTO:+0200
TZNAME:CEST
DTSTART:20250330T010000
END:DAYLIGHT
BEGIN:STANDARD
TZOFFSETFROM:+0200
TZOFFSETTO:+0100
TZNAME:CET
DTSTART:20251026T010000
END:STANDARD
END:VTIMEZONE
BEGIN:VEVENT
DTSTART;TZID=Europe/Ljubljana:20250118T170000
DTEND;TZID=Europe/Ljubljana:20250118T170000
DTSTAMP:20260420T192350
CREATED:20250113T130005Z
LAST-MODIFIED:20250113T130005Z
UID:22200-1737219600-1737219600@www.knjiznica-slovenskekonjice.si
SUMMARY:Kino Slovenske Konjice: Dunja in princesa iz Alepa
DESCRIPTION:Dunja živi v Alepu\, tisočletnem mestu\, ki je bilo nekdaj središče sveta. Živahna kodrolasa deklica obožuje igro\, učenje in odkrivanje novih receptov. Čas preživlja v vrvežu tržnice\, kjer z dedkom iščeta sestavine za okusne jedi\, ki jih pripravlja babica. Življenje je polno prijaznih sosedov\, slikovitih pripovedk in živahne glasbe. Nekega večera pa skupina uniformiranih mož odpelje Dunjinega očeta. Tudi na ulicah je vse bolj čutiti stopnjevanje napetosti. Ko se začne vojna\, skušata Dunjina babica in dedek zaščititi deklico in poiskati varnejši kraj. Dunja s sabo vzame le nekaj semen črnike\, ki naj bi imela čarobne moči. Potovanje jih vodi čez kopno in morje\, nevarnosti pa premagujejo s pogumom\, polnim upanja\, medsebojne pomoči in tudi humorja.\n\nVstopnice: 5 €.
URL:https://www.knjiznica-slovenskekonjice.si/dogodek/kino-slovenske-konjice-dunja-in-princesa-iz-alepa/
LOCATION:Dom kulture Slovenske Konjice\, dvorana\, Mestni trg 4\, Slovenske Konjice
CATEGORIES:Dogodek
ATTACH;FMTTYPE=image/jpeg:https://www.knjiznica-slovenskekonjice.si/wp-content/uploads/2025/01/FB_HD_Kino-JANUAR-Dunja-CKPSK_6.1.2025-1.jpg
END:VEVENT
END:VCALENDAR