BEGIN:VCALENDAR
VERSION:2.0
PRODID:-//Knjižnica Slovenske Konjice - ECPv6.6.4.2//NONSGML v1.0//EN
CALSCALE:GREGORIAN
METHOD:PUBLISH
X-ORIGINAL-URL:https://www.knjiznica-slovenskekonjice.si
X-WR-CALDESC:Dogodki za Knjižnica Slovenske Konjice
REFRESH-INTERVAL;VALUE=DURATION:PT1H
X-Robots-Tag:noindex
X-PUBLISHED-TTL:PT1H
BEGIN:VTIMEZONE
TZID:Europe/Ljubljana
BEGIN:DAYLIGHT
TZOFFSETFROM:+0100
TZOFFSETTO:+0200
TZNAME:CEST
DTSTART:20240331T010000
END:DAYLIGHT
BEGIN:STANDARD
TZOFFSETFROM:+0200
TZOFFSETTO:+0100
TZNAME:CET
DTSTART:20241027T010000
END:STANDARD
END:VTIMEZONE
BEGIN:VEVENT
DTSTART;TZID=Europe/Ljubljana:20241231T220000
DTEND;TZID=Europe/Ljubljana:20241231T220000
DTSTAMP:20260420T192535
CREATED:20241122T123511Z
LAST-MODIFIED:20241122T123511Z
UID:22111-1735682400-1735682400@www.knjiznica-slovenskekonjice.si
SUMMARY:Silvestrovanje s S.O.S. kvintetom
DESCRIPTION:S.O.S.ovci radi priskočijo na pomoč tudi tam\, kjer je potrebna dobra glasba\, veselje in ples. Kvintet je nastal v želji po muziciranju\, prijateljstvu in skupni glasbeni viziji. Zamisli\, znanje in veselje so združili\, saj želijo dobro glasbo posredovati ljudem\, ki so željni razvajanja ušes in plesa. Poskrbijo\, da še tako slabo razpoložene zasrbijo pete\, dobra volja pa se naseli v njihovih srcih.\n\nZasedbo sestavlja šest odličnih\, izobraženih glasbenikov\, z dolgoletnimi izkušnjami na glasbeni sceni\, v postavi klasičnega kvinteta s pevko. Pestra instrumentalna zasedba ima širok nabor kvintetovske glasbe\, melodij v izvedbi diatonične harmonike ter zimzelene in aktualne zabavne ritme.\nNjihova pristna energija in čuteča interpretacija zadovoljita vse glasbene navdušence.\nVstop prost.
URL:https://www.knjiznica-slovenskekonjice.si/dogodek/silvestrovanje-s-s-o-s-kvintetom-2/
LOCATION:Mestni trg Slovenske Konjice\, Mestni trg 4\, Slovenske Konjice\, 3210\, Slovenija
CATEGORIES:Dogodek
ATTACH;FMTTYPE=image/jpeg:https://www.knjiznica-slovenskekonjice.si/wp-content/uploads/2024/11/10-FB_Posamicni-dogodki-Praznicni-december-2024_20.11.2024.jpg
ORGANIZER;CN="Center za kulturne prireditve":MAILTO:info@ckpkonjice.si
END:VEVENT
END:VCALENDAR