BEGIN:VCALENDAR
VERSION:2.0
PRODID:-//Knjižnica Slovenske Konjice - ECPv6.6.4.2//NONSGML v1.0//EN
CALSCALE:GREGORIAN
METHOD:PUBLISH
X-ORIGINAL-URL:https://www.knjiznica-slovenskekonjice.si
X-WR-CALDESC:Dogodki za Knjižnica Slovenske Konjice
REFRESH-INTERVAL;VALUE=DURATION:PT1H
X-Robots-Tag:noindex
X-PUBLISHED-TTL:PT1H
BEGIN:VTIMEZONE
TZID:Europe/Ljubljana
BEGIN:DAYLIGHT
TZOFFSETFROM:+0100
TZOFFSETTO:+0200
TZNAME:CEST
DTSTART:20240331T010000
END:DAYLIGHT
BEGIN:STANDARD
TZOFFSETFROM:+0200
TZOFFSETTO:+0100
TZNAME:CET
DTSTART:20241027T010000
END:STANDARD
END:VTIMEZONE
BEGIN:VEVENT
DTSTART;TZID=Europe/Ljubljana:20241229T170000
DTEND;TZID=Europe/Ljubljana:20241229T170000
DTSTAMP:20260420T205641
CREATED:20241122T121517Z
LAST-MODIFIED:20241122T121517Z
UID:22103-1735491600-1735491600@www.knjiznica-slovenskekonjice.si
SUMMARY:Družinski filmi: Čarobno potovanje na Luno
DESCRIPTION:Animirani družinski film temelji na podlagi ene najbolj priljubljenih nemških knjig za otroke do danes z naslovom “Peterchens Mondfahrt”. Zgodba filma\, v bistvu nemška različica Petra Pana\, pripoveduje zgodbo malega Petra\, ki se skupaj z majskim hroščem\, gospodom Brenčačem in gospodom Spančkom podajo na čarobno potovanje\, da bi rešili Petrovo sestrico pred zlobnimi silami Meseca.\n\nVstop je prost.
URL:https://www.knjiznica-slovenskekonjice.si/dogodek/druzinski-filmi-carobno-potovanje-na-luno/
LOCATION:Dom kulture Slovenske Konjice\, dvorana\, Mestni trg 4\, Slovenske Konjice
CATEGORIES:Dogodek
ATTACH;FMTTYPE=image/jpeg:https://www.knjiznica-slovenskekonjice.si/wp-content/uploads/2024/11/8-FB_Posamicni-dogodki-Praznicni-december-2024_20.11.2024.jpg
ORGANIZER;CN="Center za kulturne prireditve":MAILTO:info@ckpkonjice.si
END:VEVENT
BEGIN:VEVENT
DTSTART;TZID=Europe/Ljubljana:20241229T170000
DTEND;TZID=Europe/Ljubljana:20241229T170000
DTSTAMP:20260420T205641
CREATED:20241122T124719Z
LAST-MODIFIED:20241122T124719Z
UID:22114-1735491600-1735491600@www.knjiznica-slovenskekonjice.si
SUMMARY:Družinski filmi: Čarobno potovanje na Luno
DESCRIPTION:Animirani družinski film temelji na podlagi ene najbolj priljubljenih nemških knjig za otroke do danes z naslovom “Peterchens Mondfahrt”. Zgodba filma\, v bistvu nemška različica Petra Pana\, pripoveduje zgodbo malega Petra\, ki se skupaj z majskim hroščem\, gospodom Brenčačem in gospodom Spančkom podajo na čarobno potovanje\, da bi rešili Petrovo sestrico pred zlobnimi silami Meseca.\n\nVstop je prost.
URL:https://www.knjiznica-slovenskekonjice.si/dogodek/druzinski-filmi-carobno-potovanje-na-luno-2/
LOCATION:Dom kulture Slovenske Konjice\, dvorana\, Mestni trg 4\, Slovenske Konjice
CATEGORIES:Dogodek
ATTACH;FMTTYPE=image/jpeg:https://www.knjiznica-slovenskekonjice.si/wp-content/uploads/2024/11/8-FB_Posamicni-dogodki-Praznicni-december-2024_20.11.2024-1.jpg
ORGANIZER;CN="Center za kulturne prireditve":MAILTO:info@ckpkonjice.si
END:VEVENT
END:VCALENDAR