BEGIN:VCALENDAR
VERSION:2.0
PRODID:-//Knjižnica Slovenske Konjice - ECPv6.6.4.2//NONSGML v1.0//EN
CALSCALE:GREGORIAN
METHOD:PUBLISH
X-WR-CALNAME:Knjižnica Slovenske Konjice
X-ORIGINAL-URL:https://www.knjiznica-slovenskekonjice.si
X-WR-CALDESC:Dogodki za Knjižnica Slovenske Konjice
REFRESH-INTERVAL;VALUE=DURATION:PT1H
X-Robots-Tag:noindex
X-PUBLISHED-TTL:PT1H
BEGIN:VTIMEZONE
TZID:Europe/Ljubljana
BEGIN:DAYLIGHT
TZOFFSETFROM:+0100
TZOFFSETTO:+0200
TZNAME:CEST
DTSTART:20240331T010000
END:DAYLIGHT
BEGIN:STANDARD
TZOFFSETFROM:+0200
TZOFFSETTO:+0100
TZNAME:CET
DTSTART:20241027T010000
END:STANDARD
END:VTIMEZONE
BEGIN:VEVENT
DTSTART;TZID=Europe/Ljubljana:20241228T170000
DTEND;TZID=Europe/Ljubljana:20241228T170000
DTSTAMP:20260420T205543
CREATED:20241122T120622Z
LAST-MODIFIED:20241122T120622Z
UID:22098-1735405200-1735405200@www.knjiznica-slovenskekonjice.si
SUMMARY:Družinski filmi: Škratki
DESCRIPTION:Škratki so nazaj v človeškem svetu\, kjer jih čaka sladko doživetje polno akcije.Starodavna zgodba o slavnih škratjih prednikih pravi\, da so škratje in ljudje živeli složno\, dokler jih preradovedna krojačeva žena ni pregnala v podzemlje. Zdaj živijo tam že več stoletji. Nadobudni in malce jezikavi škratovki Škrati pa se podzemni svet zdi grozno dolgočasen\, zato jo nekega dne mahne v človeški svet. S prijateljema Kepkom in Bučkom se znajde v slaščičarni godrnjavega peka Tea\, ki je v težavah. Odplačati mora velike dolgove\, njegova slaščičarna pa je že več let zaprta. Pif\, paf in puf\, še dobro\, da so škratki spet tu. Škrati bo Teu pomagala\, med mesenjem\, gnetenjem\, stepanjem\, valjanjem in sladkanjem pa odkrila tudi pravi škratovski namen.\n\nVstop je prost.
URL:https://www.knjiznica-slovenskekonjice.si/dogodek/druzinski-filmi-skratki/
LOCATION:Dom kulture Slovenske Konjice\, dvorana\, Mestni trg 4\, Slovenske Konjice
CATEGORIES:Dogodek
ATTACH;FMTTYPE=image/jpeg:https://www.knjiznica-slovenskekonjice.si/wp-content/uploads/2024/11/8-FB_Posamicni-dogodki-Praznicni-december-2024_20.11.2024-1.jpg
ORGANIZER;CN="Center za kulturne prireditve":MAILTO:info@ckpkonjice.si
END:VEVENT
BEGIN:VEVENT
DTSTART;TZID=Europe/Ljubljana:20241228T170000
DTEND;TZID=Europe/Ljubljana:20241228T170000
DTSTAMP:20260420T205543
CREATED:20241122T120948Z
LAST-MODIFIED:20241122T121229Z
UID:22101-1735405200-1735405200@www.knjiznica-slovenskekonjice.si
SUMMARY:Družinski filmi: Superbožiček- Loče
DESCRIPTION:Po toliko letih razveseljevanja otrok po vsem svetu Božiček hrepeni po novih dogodivščinah in zdi se\, da ne more zbrati svoje legendarne motivacije\, zagona in energije\, da bi izpolnil svoje poslanstvo. Sanja o tem\, da bi bil bolj podoben svojemu idolu\, filmskemu superjunaku »SuperBožičku«\, ki se bori tudi z zlikovci\, medtem ko otrokom vsepovsod dostavlja igrače. Toda ko štiri dni pred božičem zaradi nesreče Božiček izgubi spomin\, začne verjeti\, da je res Superbožiček in se odpravi iskat filmskega zlobneža Grumpusa\, svojega največjega sovražnika. Božiček\, ki ga zasleduje njegov ljubki škrat Leo in ga obupano želi najti\, namesto tega naleti na 11-letno deklico Billie\, ki spozna\, da je zdaj morda edino upanje\, da reši božič.\n\nToda stvari se še bolj presenetljivo obrnejo\, ko Božiček naleti na resničnega zlikovca: Franka Fafnirja\, podlega lastnika tovarne igrač\, ki ga je razjezil Božičkov zmagoslavni uspeh\, ko je otrokom brezplačno delil kakovostne igrače in tako uničil trg Fafnirjevim poceni izdelkom. Ko Fafnir spozna\, da se ta lažni Superbožiček ne spomni\, da je pravi Božiček\, skuje zlobni načrt\, da bi ga ugrabil in prevzel nadzor nad delavnico Severnega pola. Zdaj\, ko so do božiča ostali le še štirje dnevi\, morata Billie in Leo sodelovati\, da bi poiskala način\, kako Božičku povrniti spomin in ga vrniti na severni tečaj\, preden bo božič uničen!\n\nVstopnice: 5 €.Kupite jih lahko v pisarni Centra za kulturne prireditve Slovenske Konjice ali eno uro pred pričetkom filma.
URL:https://www.knjiznica-slovenskekonjice.si/dogodek/druzinski-filmi-superbozicek-loce/
LOCATION:Kulturni dom Loče\, dvorana\, Stari trg 15\, Loče\, 3215\, Slovenija
CATEGORIES:Dogodek
ATTACH;FMTTYPE=image/jpeg:https://www.knjiznica-slovenskekonjice.si/wp-content/uploads/2024/11/8-FB_Posamicni-dogodki-Praznicni-december-2024_20.11.2024.jpg
ORGANIZER;CN="Center za kulturne prireditve":MAILTO:info@ckpkonjice.si
END:VEVENT
END:VCALENDAR