BEGIN:VCALENDAR
VERSION:2.0
PRODID:-//Knjižnica Slovenske Konjice - ECPv6.6.4.2//NONSGML v1.0//EN
CALSCALE:GREGORIAN
METHOD:PUBLISH
X-ORIGINAL-URL:https://www.knjiznica-slovenskekonjice.si
X-WR-CALDESC:Dogodki za Knjižnica Slovenske Konjice
REFRESH-INTERVAL;VALUE=DURATION:PT1H
X-Robots-Tag:noindex
X-PUBLISHED-TTL:PT1H
BEGIN:VTIMEZONE
TZID:Europe/Ljubljana
BEGIN:DAYLIGHT
TZOFFSETFROM:+0100
TZOFFSETTO:+0200
TZNAME:CEST
DTSTART:20240331T010000
END:DAYLIGHT
BEGIN:STANDARD
TZOFFSETFROM:+0200
TZOFFSETTO:+0100
TZNAME:CET
DTSTART:20241027T010000
END:STANDARD
END:VTIMEZONE
BEGIN:VEVENT
DTSTART;TZID=Europe/Ljubljana:20241215T200000
DTEND;TZID=Europe/Ljubljana:20241215T200000
DTSTAMP:20260420T210709
CREATED:20241122T103343Z
LAST-MODIFIED:20241213T122618Z
UID:22088-1734292800-1734292800@www.knjiznica-slovenskekonjice.si
SUMMARY:Večerja bedakov - za izven
DESCRIPTION:Si predstavljate\, kaj se dejansko zgodi\, ko na večerjo povabite bedaka svetovne klase? Peter (Pierre) se s prijatelji rad igra nenavadno igro – idiotsko večerjo. Vsakdo od povabljenih ima nalogo\, da na večerjo pripelje največjega bedaka. Tisti\, ki bo predstavil najbolj spektakularnega\, redek biser\, bedaka svetovnega razreda\, je zmagovalec! A v tem našem večeru se dogaja katastrofa za katastrofo\, padajo maske in tisti\, ki je verjel\, da se bo smejal\, se morda ne bo tako zelo. V nekaj minutah gre vse narobe\, življenje se obrne na glavo\, zgodi se najbolj nepričakovano in – smešno čez vse!\n\nAvtor: Francis Veber.Režija: Bojan Emeršič.Igrajo: Jernej Kogovšek\, Primož Vrhovec\, Maja Martina Merljak\, Gregor Podričnik\, Robert Korošec.\n\nVstopnice so na voljo v pisarni Centra za kulturne prireditve Slovenske Konjice.\n\nInformacije: Center za kulturne prireditve Slovenske Konjice\, 03 758 04 37\,FB: Center za kulturne prireditve Slovenske Konjice\,IG: @ckpslovenskekonjice.
URL:https://www.knjiznica-slovenskekonjice.si/dogodek/vecerja-bedakov-za-izven/
LOCATION:Dom kulture Slovenske Konjice\, dvorana\, Mestni trg 4\, Slovenske Konjice
CATEGORIES:Dogodek
ATTACH;FMTTYPE=image/jpeg:https://www.knjiznica-slovenskekonjice.si/wp-content/uploads/2024/11/6-FB_Posamicni-dogodki-Praznicni-december-2024_20.11.2024.jpg
ORGANIZER;CN="Center za kulturne prireditve":MAILTO:info@ckpkonjice.si
END:VEVENT
END:VCALENDAR