BEGIN:VCALENDAR
VERSION:2.0
PRODID:-//Knjižnica Slovenske Konjice - ECPv6.6.4.2//NONSGML v1.0//EN
CALSCALE:GREGORIAN
METHOD:PUBLISH
X-WR-CALNAME:Knjižnica Slovenske Konjice
X-ORIGINAL-URL:https://www.knjiznica-slovenskekonjice.si
X-WR-CALDESC:Dogodki za Knjižnica Slovenske Konjice
REFRESH-INTERVAL;VALUE=DURATION:PT1H
X-Robots-Tag:noindex
X-PUBLISHED-TTL:PT1H
BEGIN:VTIMEZONE
TZID:Europe/Ljubljana
BEGIN:DAYLIGHT
TZOFFSETFROM:+0100
TZOFFSETTO:+0200
TZNAME:CEST
DTSTART:20240331T010000
END:DAYLIGHT
BEGIN:STANDARD
TZOFFSETFROM:+0200
TZOFFSETTO:+0100
TZNAME:CET
DTSTART:20241027T010000
END:STANDARD
END:VTIMEZONE
BEGIN:VEVENT
DTSTART;TZID=Europe/Ljubljana:20241214T100000
DTEND;TZID=Europe/Ljubljana:20241214T100000
DTSTAMP:20260420T205542
CREATED:20240925T091050Z
LAST-MODIFIED:20240925T091050Z
UID:21897-1734170400-1734170400@www.knjiznica-slovenskekonjice.si
SUMMARY:Tinko Polovinko
DESCRIPTION:SOBOTA\, 14. DECEMBER 2024\, 10.00 \nDOM KULTURE SLOVENSKE KONJICE\, DVORANA \nKULTURNI ZAVOD VELIKI UP \n  \nPredstava je narejena po znani glasbeni pravljici Janeza Bitenca. Tinko je poseben fant\, ki si \nzjutraj obleče samo eno hlačnico in en rokav\, eno nogavičko in en čevelj. Umije si samo zgornjo polovičko zob\, popije samo pol kozarca mleka in pride samo do pol poti do dedka in babice. Ker vidi polovico sveta takega\, kot je zares\, polovico pa takega\, kakršnega si ga želi\, ga okolica gleda postrani. Predstava praznuje prijateljstvo domišljije brez meja in resničnega \nsveta s takšnimi in drugačnimi pravili. Premiero je predstava doživela leta 2009\,od takrat je \ndoživela že več kot 400 ponovitev po vsej Sloveniji. Prepletanje igranega\, petega in lutkovnega skozi vedno sveže improvizirane delčke predstave vedno znova zaživi kot nekaj novega. \n  \nIgra: Jernej Čampelj. \n  \nInformacije: Center za kulturne prireditve Slovenske Konjice\, 03 758 04 37\, \nFB: Center za kulturne prireditve Slovenske Konjice\, \nIG: @ckpslovenskekonjice.
URL:https://www.knjiznica-slovenskekonjice.si/dogodek/tinko-polovinko/
LOCATION:Dom kulture Slovenske Konjice\, dvorana\, Mestni trg 4\, Slovenske Konjice
CATEGORIES:Dogodek
ATTACH;FMTTYPE=image/jpeg:https://www.knjiznica-slovenskekonjice.si/wp-content/uploads/2024/09/3.-Mini_Tinko-Polovinko_Jernej-Campelj-scaled.jpg
ORGANIZER;CN="Center za kulturne prireditve":MAILTO:info@ckpkonjice.si
END:VEVENT
END:VCALENDAR