BEGIN:VCALENDAR
VERSION:2.0
PRODID:-//Knjižnica Slovenske Konjice - ECPv6.6.4.2//NONSGML v1.0//EN
CALSCALE:GREGORIAN
METHOD:PUBLISH
X-WR-CALNAME:Knjižnica Slovenske Konjice
X-ORIGINAL-URL:https://www.knjiznica-slovenskekonjice.si
X-WR-CALDESC:Dogodki za Knjižnica Slovenske Konjice
REFRESH-INTERVAL;VALUE=DURATION:PT1H
X-Robots-Tag:noindex
X-PUBLISHED-TTL:PT1H
BEGIN:VTIMEZONE
TZID:Europe/Ljubljana
BEGIN:DAYLIGHT
TZOFFSETFROM:+0100
TZOFFSETTO:+0200
TZNAME:CEST
DTSTART:20240331T010000
END:DAYLIGHT
BEGIN:STANDARD
TZOFFSETFROM:+0200
TZOFFSETTO:+0100
TZNAME:CET
DTSTART:20241027T010000
END:STANDARD
END:VTIMEZONE
BEGIN:VEVENT
DTSTART;TZID=Europe/Ljubljana:20241204T180000
DTEND;TZID=Europe/Ljubljana:20241204T200000
DTSTAMP:20260420T205415
CREATED:20241203T072407Z
LAST-MODIFIED:20241203T072407Z
UID:22116-1733335200-1733342400@www.knjiznica-slovenskekonjice.si
SUMMARY:Praznični kino z vsebino: MESTNE PROMENADE - SLOVENSKE KONJICE
DESCRIPTION:SREDA\, 4. 12.\, OB 18. URI \nDom kulture Slovenske Konjice \nDOKUMENTARNA SERIJA MESTNE PROMENADE – SLOVENSKE KONJICE \nUstvarjalci dokumentarne serije Mestne promenade\, ki že vrsto let nastaja v uredništvu izobraževalnih oddaj TV Slovenija\, so letos obiskali tudi Slovenske Konjice. Sprehodili so se po mestu\, v katerem sta jih prav posebej nagovorila bogata zgodovina in slikovita dediščina z izstopajočimi kulturnimi spomeniki\, kot so nadžupnijska cerkev sv. Jurija\, Stari grad in Žička kartuzija. Pridružili so se tudi praznovanju zavetnika mesta na Jurjevanju ter se pogovarjali z vodjo TIC-a mag. Tjašo Kangler in umetnostno zgodovinarko ddr. Natašo Golob. Dokumentarna serija Mestne promenade je televizijski kulturni potopis po slovenskih mestih in trgih s predstavitvijo njihove zgodovine\, dediščine in tradicionalnega utripa. Konjiško oddajo so sooblikovali urednik\, scenarist in voditelj Andrej Doblehar\, režiserka Petra Hauc in direktor fotografije Robert Doplihar.  \nPo ogledu dokumentarne serije o Slovenskih Konjicah bo sledil pogovor z ustvarjalci.  \nVstop je prost.
URL:https://www.knjiznica-slovenskekonjice.si/dogodek/praznicni-kino-z-vsebino-mestne-promenade-slovenske-konjice/
LOCATION:Dom kulture Slovenske Konjice\, Mestni trg 4\, Slovenske Konjice\, 3210
CATEGORIES:Dogodek
ATTACH;FMTTYPE=image/jpeg:https://www.knjiznica-slovenskekonjice.si/wp-content/uploads/2024/12/kino.jpeg
END:VEVENT
END:VCALENDAR