BEGIN:VCALENDAR
VERSION:2.0
PRODID:-//Knjižnica Slovenske Konjice - ECPv6.6.4.2//NONSGML v1.0//EN
CALSCALE:GREGORIAN
METHOD:PUBLISH
X-WR-CALNAME:Knjižnica Slovenske Konjice
X-ORIGINAL-URL:https://www.knjiznica-slovenskekonjice.si
X-WR-CALDESC:Dogodki za Knjižnica Slovenske Konjice
REFRESH-INTERVAL;VALUE=DURATION:PT1H
X-Robots-Tag:noindex
X-PUBLISHED-TTL:PT1H
BEGIN:VTIMEZONE
TZID:Europe/Ljubljana
BEGIN:DAYLIGHT
TZOFFSETFROM:+0100
TZOFFSETTO:+0200
TZNAME:CEST
DTSTART:20240331T010000
END:DAYLIGHT
BEGIN:STANDARD
TZOFFSETFROM:+0200
TZOFFSETTO:+0100
TZNAME:CET
DTSTART:20241027T010000
END:STANDARD
END:VTIMEZONE
BEGIN:VEVENT
DTSTART;TZID=Europe/Ljubljana:20241201T130000
DTEND;TZID=Europe/Ljubljana:20241201T134500
DTSTAMP:20260420T205513
CREATED:20241111T114842Z
LAST-MODIFIED:20241111T114842Z
UID:22066-1733058000-1733060700@www.knjiznica-slovenskekonjice.si
SUMMARY:Mesto v gosteh na 40. Slovenskem knjižnem sejmu: DREVO ZA PTICE
DESCRIPTION:DREVO ZA PTICE\, 1. 12. 2024\, 13:00 – 13:45\nGospodarsko razstavišče; Glavni oder\n\nSodelujoči: \n8 članov Ljubiteljskega gledališča Petra Simonitija Celje. Recital bo prepleten z glasbo. \n\n\nOpis dogodka: \nČlani Ljubiteljskega gledališča Petra Simonitija Celje se bodo skozi recitale poklonili pesniku Ivanu Minattiju. V veznem besedilu\, ki ga je oblikovala scenaristka dogodka Jana Kvas\, je zapisano\, da so njegove pesmi kot ptice.
URL:https://www.knjiznica-slovenskekonjice.si/dogodek/mesto-v-gosteh-na-40-slovenskem-knjiznem-sejmu-drevo-za-ptice/
LOCATION:Gospodarsko razstavišče Ljubljana\, Dimičeva ulica 13\, 1504 Ljubljana
CATEGORIES:Dogodek
ATTACH;FMTTYPE=image/png:https://www.knjiznica-slovenskekonjice.si/wp-content/uploads/2017/10/Drevo-za-ptice.png
END:VEVENT
BEGIN:VEVENT
DTSTART;TZID=Europe/Ljubljana:20241201T140000
DTEND;TZID=Europe/Ljubljana:20241201T144500
DTSTAMP:20260420T205513
CREATED:20241111T115047Z
LAST-MODIFIED:20241111T115047Z
UID:22068-1733061600-1733064300@www.knjiznica-slovenskekonjice.si
SUMMARY:Mesto v gosteh na 40. Slovenskem knjižnem sejmu: 10. LITERARNI FESTIVAL SPIRALA
DESCRIPTION:10. LITERARNI FESTIVAL SPIRALA\, 1. 12. 2024\, 14:00 – 14:45\nGospodarsko razstavišče; Glavni oder\n\nModerator: \nMaja Furman in Tonja Jelen \n\n\nSodelujoči: \nPisateljica Adriana Kuči\, bralci prispevkov. \n\n\nOpis dogodka: \nTradicionalni literarni festival Spirala. Predstavitev 10. Literarne revije Spirala. Prebiranje pesmi\, zgodb in pravljic. Podelitev nagrad. Spirala je postala del slovenske literarne krajine. Gre za literarno revijo\, ki nagovarja širšo literarno sceno\, tako vizualno kot vsebinsko.
URL:https://www.knjiznica-slovenskekonjice.si/dogodek/mesto-v-gosteh-na-40-slovenskem-knjiznem-sejmu-10-literarni-festival-spirala/
LOCATION:Gospodarsko razstavišče Ljubljana\, Dimičeva ulica 13\, 1504 Ljubljana
CATEGORIES:Dogodek
ATTACH;FMTTYPE=image/png:https://www.knjiznica-slovenskekonjice.si/wp-content/uploads/2017/10/Spirala.png
END:VEVENT
END:VCALENDAR