BEGIN:VCALENDAR
VERSION:2.0
PRODID:-//Knjižnica Slovenske Konjice - ECPv6.6.4.2//NONSGML v1.0//EN
CALSCALE:GREGORIAN
METHOD:PUBLISH
X-WR-CALNAME:Knjižnica Slovenske Konjice
X-ORIGINAL-URL:https://www.knjiznica-slovenskekonjice.si
X-WR-CALDESC:Dogodki za Knjižnica Slovenske Konjice
REFRESH-INTERVAL;VALUE=DURATION:PT1H
X-Robots-Tag:noindex
X-PUBLISHED-TTL:PT1H
BEGIN:VTIMEZONE
TZID:Europe/Ljubljana
BEGIN:DAYLIGHT
TZOFFSETFROM:+0100
TZOFFSETTO:+0200
TZNAME:CEST
DTSTART:20240331T010000
END:DAYLIGHT
BEGIN:STANDARD
TZOFFSETFROM:+0200
TZOFFSETTO:+0100
TZNAME:CET
DTSTART:20241027T010000
END:STANDARD
END:VTIMEZONE
BEGIN:VEVENT
DTSTART;TZID=Europe/Ljubljana:20241130T130000
DTEND;TZID=Europe/Ljubljana:20241130T134500
DTSTAMP:20260420T205514
CREATED:20241111T114633Z
LAST-MODIFIED:20241111T114633Z
UID:22064-1732971600-1732974300@www.knjiznica-slovenskekonjice.si
SUMMARY:Mesto v gosteh na 40. Slovenskem knjižnem sejmu: POTOVANJE SKOZI MINATTIJEVO POEZIJO
DESCRIPTION:POTOVANJE SKOZI MINATTIJEVO POEZIJO\, 30. 11. 2024\, 13:00 – 13:45\nGospodarsko razstavišče; Pogovorna postaja\n\nSodelujoči: \nIzvedba: Kulturno društvo Svoboda osvobaja. \n\n\nOpis dogodka: \nPotovanje skozi Minattijevo poezijo bo osvetlilo prvini\, ki sta si na videz popolnoma nasprotujoči\, a se vendarle v medsebojnem spletu lahko uresničujeta v pomembno lirično izpoved: v upanje in resignacijo\, voljo in brezup\, nemoč in vitalizem.
URL:https://www.knjiznica-slovenskekonjice.si/dogodek/mesto-v-gosteh-na-40-slovenskem-knjiznem-sejmu-potovanje-skozi-minattijevo-poezijo/
LOCATION:Gospodarsko razstavišče Ljubljana\, Dimičeva ulica 13\, 1504 Ljubljana
CATEGORIES:Dogodek
ATTACH;FMTTYPE=image/png:https://www.knjiznica-slovenskekonjice.si/wp-content/uploads/2017/10/KDSO.png
END:VEVENT
END:VCALENDAR