BEGIN:VCALENDAR
VERSION:2.0
PRODID:-//Knjižnica Slovenske Konjice - ECPv6.6.4.2//NONSGML v1.0//EN
CALSCALE:GREGORIAN
METHOD:PUBLISH
X-ORIGINAL-URL:https://www.knjiznica-slovenskekonjice.si
X-WR-CALDESC:Dogodki za Knjižnica Slovenske Konjice
REFRESH-INTERVAL;VALUE=DURATION:PT1H
X-Robots-Tag:noindex
X-PUBLISHED-TTL:PT1H
BEGIN:VTIMEZONE
TZID:Europe/Ljubljana
BEGIN:DAYLIGHT
TZOFFSETFROM:+0100
TZOFFSETTO:+0200
TZNAME:CEST
DTSTART:20240331T010000
END:DAYLIGHT
BEGIN:STANDARD
TZOFFSETFROM:+0200
TZOFFSETTO:+0100
TZNAME:CET
DTSTART:20241027T010000
END:STANDARD
END:VTIMEZONE
BEGIN:VEVENT
DTSTART;TZID=Europe/Ljubljana:20241123T100000
DTEND;TZID=Europe/Ljubljana:20241123T103000
DTSTAMP:20260420T225329
CREATED:20240925T090424Z
LAST-MODIFIED:20240925T090424Z
UID:21893-1732356000-1732357800@www.knjiznica-slovenskekonjice.si
SUMMARY:Po Sloveniji s popotnikom Jakom
DESCRIPTION:SOBOTA\, 23. NOVEMBER 2024\, 10.00 \nDOM KULTURE SLOVENSKE KONJICE\, DVORANA \nZAVOD ENOSTAVNO PRIJATELJI \n  \nGledališka predstava o zakladih Slovenije\, kjer otroci pomagajo popotniku Jaki iskati njegovo babico. Jaka na poti srečuje zanimive ljudi\, pravljične junake\, živali\, bajeslovna bitja\, ki govorijo zgodbe o bogati kulturni in naravni dediščini. Jako navdušijo s preprostostjo\, humorjem in zanimivimi običaji. Toda nihče ne ve\, kje se skriva njegova babica\, dokler ne sreča zmaja. \nPredstava je zelo razgibana\, zabavna\, smešna in poučna\, primerna za otroke vseh starosti. Najmlajši se bodo nasmejali Jakovim prigodam. Starejši bodo utrdili znanje o Sloveniji in se naučili novih zanimivosti. Odrasli pa jo gledajo s ponosom\, saj se komaj zavedamo\, v kako lepem koščku sveta živimo.    \n  \nInformacije: Center za kulturne prireditve Slovenske Konjice\, 03 758 04 37\, \nFB: Center za kulturne prireditve Slovenske Konjice\, \nIG: @ckpslovenskekonjice.
URL:https://www.knjiznica-slovenskekonjice.si/dogodek/po-sloveniji-s-popotnikom-jakom/
LOCATION:Dom kulture Slovenske Konjice\, dvorana\, Mestni trg 4\, Slovenske Konjice
CATEGORIES:Dogodek
ATTACH;FMTTYPE=image/jpeg:https://www.knjiznica-slovenskekonjice.si/wp-content/uploads/2024/09/3.-Mini_Po-Sloveniji-s-popotnikom-Jakom_Arhiv-Zavoda-Enostavno-prijatelji-bo-dovolj.jpg
ORGANIZER;CN="Center za kulturne prireditve":MAILTO:info@ckpkonjice.si
END:VEVENT
END:VCALENDAR