BEGIN:VCALENDAR
VERSION:2.0
PRODID:-//Knjižnica Slovenske Konjice - ECPv6.6.4.2//NONSGML v1.0//EN
CALSCALE:GREGORIAN
METHOD:PUBLISH
X-WR-CALNAME:Knjižnica Slovenske Konjice
X-ORIGINAL-URL:https://www.knjiznica-slovenskekonjice.si
X-WR-CALDESC:Dogodki za Knjižnica Slovenske Konjice
REFRESH-INTERVAL;VALUE=DURATION:PT1H
X-Robots-Tag:noindex
X-PUBLISHED-TTL:PT1H
BEGIN:VTIMEZONE
TZID:Europe/Ljubljana
BEGIN:DAYLIGHT
TZOFFSETFROM:+0100
TZOFFSETTO:+0200
TZNAME:CEST
DTSTART:20240331T010000
END:DAYLIGHT
BEGIN:STANDARD
TZOFFSETFROM:+0200
TZOFFSETTO:+0100
TZNAME:CET
DTSTART:20241027T010000
END:STANDARD
END:VTIMEZONE
BEGIN:VEVENT
DTSTART;TZID=Europe/Ljubljana:20241114T190000
DTEND;TZID=Europe/Ljubljana:20241114T190000
DTSTAMP:20260420T224337
CREATED:20240925T080113Z
LAST-MODIFIED:20240925T080113Z
UID:21869-1731610800-1731610800@www.knjiznica-slovenskekonjice.si
SUMMARY:Abonma: Iščem tipa za svojo ženo
DESCRIPTION:ČETRTEK\, 14. NOVEMBER 2024\, 19.00 \nDOM KULTURE SLOVENSKE KONJICE\, DVORANA \nSNG KRANJ \n  \nObdobje šopkov in sladkarij se umakne družinskemu življenju in tudi najbolj idealna razmerja lahko razkrijejo nepredvidljivo stran. Spartak in njegova žena\, ki je popolnoma odštekana trapa\, imata zvito sestavljeno predporočno pogodbo. Če se hoče Spartak ločiti in ohraniti svoje bogastvo in položaj\, obstaja samo en izhod – obsoditi svojo ženo varanja. Toda stvari začnejo iti popolnoma narobe\, ko se pojavi Robert\, ki obrne vse na glavo in pomaga ponovno verjeti\, da ljubezen še vedno obstaja. Predstava za smeh z receptom za boljši vsakdan. \n  \nPrevod\, priredba\, režija: Igor Korošec. \n  \nIgralska zasedba: \nNataša Babič\, \nKlemen Novak\, \nIgor Korošec.
URL:https://www.knjiznica-slovenskekonjice.si/dogodek/abonma-iscem-tipa-za-svojo-zeno/
LOCATION:Dom kulture Slovenske Konjice\, dvorana\, Mestni trg 4\, Slovenske Konjice
CATEGORIES:Dogodek
ATTACH;FMTTYPE=image/jpeg:https://www.knjiznica-slovenskekonjice.si/wp-content/uploads/2024/09/1.-Komedije_Iscem-tipa-za-svojo-zeno_arhiv-SNG-Kranj-scaled.jpg
ORGANIZER;CN="Center za kulturne prireditve":MAILTO:info@ckpkonjice.si
END:VEVENT
END:VCALENDAR