BEGIN:VCALENDAR
VERSION:2.0
PRODID:-//Knjižnica Slovenske Konjice - ECPv6.6.4.2//NONSGML v1.0//EN
CALSCALE:GREGORIAN
METHOD:PUBLISH
X-ORIGINAL-URL:https://www.knjiznica-slovenskekonjice.si
X-WR-CALDESC:Dogodki za Knjižnica Slovenske Konjice
REFRESH-INTERVAL;VALUE=DURATION:PT1H
X-Robots-Tag:noindex
X-PUBLISHED-TTL:PT1H
BEGIN:VTIMEZONE
TZID:Europe/Ljubljana
BEGIN:DAYLIGHT
TZOFFSETFROM:+0100
TZOFFSETTO:+0200
TZNAME:CEST
DTSTART:20240331T010000
END:DAYLIGHT
BEGIN:STANDARD
TZOFFSETFROM:+0200
TZOFFSETTO:+0100
TZNAME:CET
DTSTART:20241027T010000
END:STANDARD
END:VTIMEZONE
BEGIN:VEVENT
DTSTART;TZID=Europe/Ljubljana:20241112T180000
DTEND;TZID=Europe/Ljubljana:20241112T180000
DTSTAMP:20260420T224545
CREATED:20240925T092621Z
LAST-MODIFIED:20240925T092621Z
UID:21907-1731434400-1731434400@www.knjiznica-slovenskekonjice.si
SUMMARY:Uroš Rojko in Luka Juhart
DESCRIPTION:TOREK\, 12. NOVEMBER 2024\, 18.00 \nDOM KULTURE SLOVENSKE KONJICE \n  \nV Slovenskih Konjicah se bomo ob 70-letnici poklonili enemu najpomembnejših slovenskih glasbenikov\, skladatelju in klarinetistu Urošu Rojku. Rojko je večkrat nagrajeni skladatelj\, upokojeni redni profesor kompozicije na Akademiji za glasbo\, redni član Slovenske akademije znanosti in umetnosti\, prejemnik Kozinove in Župančičeve nagrade ter nagrade Prešernovega sklada. Več o njegovem delu bo predstavljeno na razstavi\, ki jo za konjiško publiko pripravlja muzikolog prof. dr. Leon Stefanija. Bo pa Uroš Rojko nastopil tudi v Koncertnem ciklu pri Didiju\, in sicer z umetniškim vodjem cikla\, Luko Juhartom. Duo\, ki svojo originalnost gradi na improviziranih in teatralnih vložkih\, predvsem pa na igranju lastne glasbe\, ravno v letu 2024 praznuje 20 let skupnega muziciranja. Koncert je del cikla ZVOKOTOK Zavoda Sploh. \n  \nUroš Rojko – klarinet\, \nLuka Juhart – harmonika. \n  \nInformacije: Center za kulturne prireditve Slovenske Konjice\, 03 758 04 37\, \nFB: Center za kulturne prireditve Slovenske Konjice\, \nIG: @ckpslovenskekonjice.
URL:https://www.knjiznica-slovenskekonjice.si/dogodek/uros-rojko-in-luka-juhart/
LOCATION:Dom kulture Slovenske Konjice\, dvorana\, Mestni trg 4\, Slovenske Konjice
CATEGORIES:Dogodek
ATTACH;FMTTYPE=image/jpeg:https://www.knjiznica-slovenskekonjice.si/wp-content/uploads/2024/09/5.-Koncertni-cikel-pri-Didiju_-Luka-Juhart-in-Uros-Rojko_-foto-Andrej-Grilc-1-2-1-1-scaled.jpg
ORGANIZER;CN="Center za kulturne prireditve":MAILTO:info@ckpkonjice.si
END:VEVENT
END:VCALENDAR