BEGIN:VCALENDAR
VERSION:2.0
PRODID:-//Knjižnica Slovenske Konjice - ECPv6.6.4.2//NONSGML v1.0//EN
CALSCALE:GREGORIAN
METHOD:PUBLISH
X-ORIGINAL-URL:https://www.knjiznica-slovenskekonjice.si
X-WR-CALDESC:Dogodki za Knjižnica Slovenske Konjice
REFRESH-INTERVAL;VALUE=DURATION:PT1H
X-Robots-Tag:noindex
X-PUBLISHED-TTL:PT1H
BEGIN:VTIMEZONE
TZID:Europe/Ljubljana
BEGIN:DAYLIGHT
TZOFFSETFROM:+0100
TZOFFSETTO:+0200
TZNAME:CEST
DTSTART:20240331T010000
END:DAYLIGHT
BEGIN:STANDARD
TZOFFSETFROM:+0200
TZOFFSETTO:+0100
TZNAME:CET
DTSTART:20241027T010000
END:STANDARD
END:VTIMEZONE
BEGIN:VEVENT
DTSTART;TZID=Europe/Ljubljana:20241109T150000
DTEND;TZID=Europe/Ljubljana:20241109T150000
DTSTAMP:20260420T224535
CREATED:20240925T101910Z
LAST-MODIFIED:20240925T102354Z
UID:21935-1731164400-1731164400@www.knjiznica-slovenskekonjice.si
SUMMARY:Martinovanje
DESCRIPTION:SOBOTA\, 9. NOVEMBER 2024 \nSLOVENSKE KONJICE\, MESTNI TRG \n  \nMartinovanje slavi preobrazbo mošta v vino\, saj je žlahtna kapljica z domačih vinorodnih gričev tisto\, kar našemu mestu daje prav posebno barvo\, aromo in zlat lesk. Letos bo ponovno barvito\, slikovito in veselja polno praznovanje potekalo v mestnem jedru. \nPredstavljena bo strokovna ocena letnika\, blagoslovljeno mlado vino\, na stojnicah pa boste srečali najboljše lokalne vinarje in kulinarično ponudbo. \n  \nInformacije: Center za kulturne prireditve Slovenske Konjice\, 03 758 04 37\, \nFB: Center za kulturne prireditve Slovenske Konjice\, \nIG: @ckpslovenskekonjice\, \nTIC Slovenske Konjice\, 03 759 31 10\, FB: TIC Slovenske Konjice\, IG: @ticslovenskekonjice.
URL:https://www.knjiznica-slovenskekonjice.si/dogodek/martinovanje-3/
LOCATION:Slovenske Konjice\, 3210\, Slovenija
CATEGORIES:Dogodek
ATTACH;FMTTYPE=image/jpeg:https://www.knjiznica-slovenskekonjice.si/wp-content/uploads/2024/09/13.-Ohranjamo-tradicijo_Martinovanje-2023-SK-FOTO-Matej-Nareks-1-scaled.jpg
ORGANIZER;CN="Center za kulturne prireditve":MAILTO:info@ckpkonjice.si
END:VEVENT
END:VCALENDAR