BEGIN:VCALENDAR
VERSION:2.0
PRODID:-//Knjižnica Slovenske Konjice - ECPv6.6.4.2//NONSGML v1.0//EN
CALSCALE:GREGORIAN
METHOD:PUBLISH
X-WR-CALNAME:Knjižnica Slovenske Konjice
X-ORIGINAL-URL:https://www.knjiznica-slovenskekonjice.si
X-WR-CALDESC:Dogodki za Knjižnica Slovenske Konjice
REFRESH-INTERVAL;VALUE=DURATION:PT1H
X-Robots-Tag:noindex
X-PUBLISHED-TTL:PT1H
BEGIN:VTIMEZONE
TZID:Europe/Ljubljana
BEGIN:DAYLIGHT
TZOFFSETFROM:+0100
TZOFFSETTO:+0200
TZNAME:CEST
DTSTART:20240331T010000
END:DAYLIGHT
BEGIN:STANDARD
TZOFFSETFROM:+0200
TZOFFSETTO:+0100
TZNAME:CET
DTSTART:20241027T010000
END:STANDARD
END:VTIMEZONE
BEGIN:VEVENT
DTSTART;TZID=Europe/Ljubljana:20241106T200000
DTEND;TZID=Europe/Ljubljana:20241106T200000
DTSTAMP:20260420T224300
CREATED:20241030T103137Z
LAST-MODIFIED:20241030T103137Z
UID:22026-1730923200-1730923200@www.knjiznica-slovenskekonjice.si
SUMMARY:Kako se znebiti bodočega moža - za izven
DESCRIPTION:Dve leti je\, kar je Silvija zapustila svojega Bojana. V odnosu vendar mora biti mnogo več od rutine\, kavča in Netflixa! Zagotovo obstaja tudi njen Romeo\, uspešen\, poln energije\, priročen in za piko na i še noro zaljubljen vanjo. A najti ‘pravega’ vseeno ni tako enostavno! Slednjič izbere bolj lahkoten pristop k iskanju. Poda se na ljubezensko avanturo najti moža in je pri tem – prekleto uspešna. Še preveč!Kar trije bi lahko bili bodoči: ‘raketa od človeka’\, učitelj Sebastijan\, odvetnik Valter in Edi\, najboljši mizar v mestu – vsi so do konca zagreti\, da se bodo poročili z njo. Le nezvesta nevesta še ni povsem prepričana … Zabavni prizori si sledijo hitreje od vagonov dirjajočega vlaka in Silvija se v ljubezenskih igricah iz minute v minuto bolj zapleta. Eden pleza po balkonu\, drugi pride nenapovedano\, tretji popravlja v spalnici … Neizbežno je\, da bo kmalu prišlo do soočenja. Le kakšno bo? Kako bo Silvija krmarila v koktejlu moških\, kdo bo najbolj v šoku in zakaj ter katero potezo bo na koncu potegnila? Res težka odločitev! Mogoče jo lahko reši le koketna prijateljica Ema?\nZabavna komedija navdušuje s hitrostjo dogajanja in krmarjenja med obilico moških v stanovanju – z enim samim plemenitim ciljem – najti pravega moža.\n\nZgodba: Derek Benfield.Prevod\, priredba\, režija: Žiga Flajnik.\nIgralska zasedba:Miha Brajnik\,Mojca Fatur\,Mario Ćulibrk\,Mojca Funkl\,Tadej Pišek.\n\nVstopnice: 25 €.Vstopnice lahko kupite v pisarni Centra za kulturne prireditve Slovenske Konjice.\n\nInformacije: Center za kulturne prireditve Slovenske Konjice\, 03 758 04 37\,FB: Center za kulturne prireditve Slovenske Konjice\,IG: @ckpslovenskekonjice.
URL:https://www.knjiznica-slovenskekonjice.si/dogodek/kako-se-znebiti-bodocega-moza-za-izven/
LOCATION:Dom kulture Slovenske Konjice\, dvorana\, Mestni trg 4\, Slovenske Konjice
CATEGORIES:Dogodek
ATTACH;FMTTYPE=image/jpeg:https://www.knjiznica-slovenskekonjice.si/wp-content/uploads/2024/10/Sreda-6.-11.-2024-20.00-Dom-kulture-Slovenske-Konjice-scaled.jpg
ORGANIZER;CN="Center za kulturne prireditve":MAILTO:info@ckpkonjice.si
END:VEVENT
END:VCALENDAR