BEGIN:VCALENDAR
VERSION:2.0
PRODID:-//Knjižnica Slovenske Konjice - ECPv6.6.4.2//NONSGML v1.0//EN
CALSCALE:GREGORIAN
METHOD:PUBLISH
X-ORIGINAL-URL:https://www.knjiznica-slovenskekonjice.si
X-WR-CALDESC:Dogodki za Knjižnica Slovenske Konjice
REFRESH-INTERVAL;VALUE=DURATION:PT1H
X-Robots-Tag:noindex
X-PUBLISHED-TTL:PT1H
BEGIN:VTIMEZONE
TZID:Europe/Ljubljana
BEGIN:DAYLIGHT
TZOFFSETFROM:+0100
TZOFFSETTO:+0200
TZNAME:CEST
DTSTART:20240331T010000
END:DAYLIGHT
BEGIN:STANDARD
TZOFFSETFROM:+0200
TZOFFSETTO:+0100
TZNAME:CET
DTSTART:20241027T010000
END:STANDARD
END:VTIMEZONE
BEGIN:VEVENT
DTSTART;TZID=Europe/Ljubljana:20241021T180000
DTEND;TZID=Europe/Ljubljana:20241021T180000
DTSTAMP:20260421T004303
CREATED:20240925T091852Z
LAST-MODIFIED:20240925T091852Z
UID:21905-1729533600-1729533600@www.knjiznica-slovenskekonjice.si
SUMMARY:Trio Janus
DESCRIPTION:PONEDELJEK\, 21. OKTOBER 2024\, 18.00 \nDOM KULTURE SLOVENSKE KONJICE \nMATIJA KREČIČ\, EMA KREČIČ IN DAVORIN MORI \n  \nTrio Janus – violinist in skladatelj Matija Krečič\, violončelistka Ema Krečič in pianist ter eden najuspešnejših slovenskih dirigentov mlajše generacije Davorin Mori\, združuje vrhunske glasbenike mlajše generacije\, ki so se s svojim delovanjem na različnih glasbenih področjih dodobra uveljavili doma in v tujini. Ime so prevzeli po rimskem bogu z dvema obrazoma – eden gleda v preteklost\, drugi v prihodnost. Glasbeniki v svoj program uvrščajo predvsem dela\, napisana v zadnjih sto letih\, in preko njih povezujejo tradicijo s prihodnostjo. Tako izvajajo glasbo skladateljev Ravela\, Šostakoviča\, Rachmaninova … Med novejšimi deli v njihovem repertoarju posebno mesto zasedajo skladbe Matije Krečiča. \n  \nMatija Krečič – violina\, \nEma Krečič – violončelo\, \nDavorin Mori – klavir. \n  \nInformacije: Center za kulturne prireditve Slovenske Konjice\, 03 758 04 37\, \nFB: Center za kulturne prireditve Slovenske Konjice\, \nIG: @ckpslovenskekonjice.
URL:https://www.knjiznica-slovenskekonjice.si/dogodek/trio-janus/
LOCATION:Dom kulture Slovenske Konjice\, dvorana\, Mestni trg 4\, Slovenske Konjice
CATEGORIES:Dogodek
ATTACH;FMTTYPE=image/jpeg:https://www.knjiznica-slovenskekonjice.si/wp-content/uploads/2024/09/5.-Koncertni-cikel-pri-Didiju_Trio-Janus-3-_foto-Lucija-Jerman-scaled.jpg
ORGANIZER;CN="Center za kulturne prireditve":MAILTO:info@ckpkonjice.si
END:VEVENT
END:VCALENDAR