BEGIN:VCALENDAR
VERSION:2.0
PRODID:-//Knjižnica Slovenske Konjice - ECPv6.6.4.2//NONSGML v1.0//EN
CALSCALE:GREGORIAN
METHOD:PUBLISH
X-ORIGINAL-URL:https://www.knjiznica-slovenskekonjice.si
X-WR-CALDESC:Dogodki za Knjižnica Slovenske Konjice
REFRESH-INTERVAL;VALUE=DURATION:PT1H
X-Robots-Tag:noindex
X-PUBLISHED-TTL:PT1H
BEGIN:VTIMEZONE
TZID:Europe/Ljubljana
BEGIN:DAYLIGHT
TZOFFSETFROM:+0100
TZOFFSETTO:+0200
TZNAME:CEST
DTSTART:20240331T010000
END:DAYLIGHT
BEGIN:STANDARD
TZOFFSETFROM:+0200
TZOFFSETTO:+0100
TZNAME:CET
DTSTART:20241027T010000
END:STANDARD
END:VTIMEZONE
BEGIN:VEVENT
DTSTART;TZID=Europe/Ljubljana:20241013T190000
DTEND;TZID=Europe/Ljubljana:20241013T190000
DTSTAMP:20260421T004328
CREATED:20240925T075700Z
LAST-MODIFIED:20240925T075700Z
UID:21867-1728846000-1728846000@www.knjiznica-slovenskekonjice.si
SUMMARY:Abonma: Kako se znebiti bodočega moža
DESCRIPTION:NEDELJA\, 13. OKTOBER 2024\, 19.00 \nDOM KULTURE SLOVENSKE KONJICE\, DVORANA \nŠPAS TEATER \n  \nDve leti je\, kar je Silvija zapustila svojega Bojana. V odnosu vendar mora biti mnogo več od rutine\, kavča in Netflixa! Zagotovo obstaja tudi njen Romeo\, uspešen\, poln energije\, priročen in za piko na i še noro zaljubljen vanjo. A najti ‘pravega’ vseeno ni tako enostavno! Slednjič izbere bolj lahkoten pristop k iskanju. Poda se na ljubezensko avanturo najti moža in je pri tem – prekleto uspešna. Še preveč! \nKar trije bi lahko bili bodoči: ‘raketa od človeka’\, učitelj Sebastijan\, odvetnik Valter in Edi\, najboljši mizar v mestu – vsi so do konca zagreti\, da se bodo poročili z njo. Le nezvesta nevesta še ni povsem prepričana … Zabavni prizori si sledijo hitreje od vagonov dirjajočega vlaka in Silvija se v ljubezenskih igricah iz minute v minuto bolj zapleta. Eden pleza po balkonu\, drugi pride nenapovedano\, tretji popravlja v spalnici … Neizbežno je\, da bo kmalu prišlo do soočenja. Le kakšno bo? Kako bo Silvija krmarila v koktejlu moških\, kdo bo najbolj v šoku in zakaj ter katero potezo bo na koncu potegnila? Res težka odločitev! Mogoče jo lahko reši le koketna prijateljica Ema? \nZabavna komedija navdušuje s hitrostjo dogajanja in krmarjenja med obilico moških v stanovanju – z enim samim plemenitim ciljem – najti pravega moža. \nZgodba: Derek Benfield. \nPrevod\, priredba\, režija: Žiga Flajnik. \n  \nIgralska zasedba: \nMiha Brajnik\, \nMojca Fatur\, \nMario Ćulibrk\, \nMojca Funkl\, \nTadej Pišek.
URL:https://www.knjiznica-slovenskekonjice.si/dogodek/abonma-kako-se-znebiti-bodocega-moza/
LOCATION:Dom kulture Slovenske Konjice\, dvorana\, Mestni trg 4\, Slovenske Konjice
CATEGORIES:Dogodek
ATTACH;FMTTYPE=image/jpeg:https://www.knjiznica-slovenskekonjice.si/wp-content/uploads/2024/09/1.-Komedije_Kako-se-znebiti-bodocega-moza_Ocepek.jpg
ORGANIZER;CN="Center za kulturne prireditve":MAILTO:info@ckpkonjice.si
END:VEVENT
END:VCALENDAR