BEGIN:VCALENDAR
VERSION:2.0
PRODID:-//Knjižnica Slovenske Konjice - ECPv6.6.4.2//NONSGML v1.0//EN
CALSCALE:GREGORIAN
METHOD:PUBLISH
X-WR-CALNAME:Knjižnica Slovenske Konjice
X-ORIGINAL-URL:https://www.knjiznica-slovenskekonjice.si
X-WR-CALDESC:Dogodki za Knjižnica Slovenske Konjice
REFRESH-INTERVAL;VALUE=DURATION:PT1H
X-Robots-Tag:noindex
X-PUBLISHED-TTL:PT1H
BEGIN:VTIMEZONE
TZID:Europe/Ljubljana
BEGIN:DAYLIGHT
TZOFFSETFROM:+0100
TZOFFSETTO:+0200
TZNAME:CEST
DTSTART:20240331T010000
END:DAYLIGHT
BEGIN:STANDARD
TZOFFSETFROM:+0200
TZOFFSETTO:+0100
TZNAME:CET
DTSTART:20241027T010000
END:STANDARD
END:VTIMEZONE
BEGIN:VEVENT
DTSTART;TZID=Europe/Ljubljana:20240809T210000
DTEND;TZID=Europe/Ljubljana:20240809T210000
DTSTAMP:20260421T041409
CREATED:20231009T102716Z
LAST-MODIFIED:20231009T113535Z
UID:21283-1723237200-1723237200@www.knjiznica-slovenskekonjice.si
SUMMARY:POLETNICA: MAGIC POND
DESCRIPTION:Vokalno-instrumentalna zasedba z močnim lokalnim pridihom ustvarja že nekaj let. Na koncertu lahko pričakujete avtorsko glasbo\, ki jo zaznamuje improvizacija. Zanimiva izkušnja za vsakega poslušalca je definitivno unikatna postavitev skupine v smislu instrumentarija\, ki vedno znova ponuja sveže barvne palete zvoka v najbolj ekskluzivnih odtenkih. \nZasedba: \nVokal\, flavta: Klara Veteršek. \nSaksofon: Grega Skaza. \nFagot: Janez Pincolič. \nKitara: Matic Ašič. \nKlaviature: Anže Vrabec. \nKontrabas: Janez Krevel. \nBobni: Matjaž Skaza. \n  \nVstop prost! Informacije: Center za kulturne prireditve Slovenske Konjice\, 03 758 04 37\, \nFB: Center za kulturne prireditve Slovenske Konjice\, \nIG: @ckpslovenskekonjice.
URL:https://www.knjiznica-slovenskekonjice.si/dogodek/magic-pond/
LOCATION:Slovenske Konjice\, 3210\, Slovenija
CATEGORIES:Koncert
ATTACH;FMTTYPE=image/jpeg:https://www.knjiznica-slovenskekonjice.si/wp-content/uploads/2023/09/7.-Poletnice_-Magic-Pond_-scaled.jpg
ORGANIZER;CN="Center za kulturne prireditve":MAILTO:info@ckpkonjice.si
END:VEVENT
END:VCALENDAR