BEGIN:VCALENDAR
VERSION:2.0
PRODID:-//Knjižnica Slovenske Konjice - ECPv6.6.4.2//NONSGML v1.0//EN
CALSCALE:GREGORIAN
METHOD:PUBLISH
X-ORIGINAL-URL:https://www.knjiznica-slovenskekonjice.si
X-WR-CALDESC:Dogodki za Knjižnica Slovenske Konjice
REFRESH-INTERVAL;VALUE=DURATION:PT1H
X-Robots-Tag:noindex
X-PUBLISHED-TTL:PT1H
BEGIN:VTIMEZONE
TZID:Europe/Ljubljana
BEGIN:DAYLIGHT
TZOFFSETFROM:+0100
TZOFFSETTO:+0200
TZNAME:CEST
DTSTART:20240331T010000
END:DAYLIGHT
BEGIN:STANDARD
TZOFFSETFROM:+0200
TZOFFSETTO:+0100
TZNAME:CET
DTSTART:20241027T010000
END:STANDARD
END:VTIMEZONE
BEGIN:VEVENT
DTSTART;TZID=Europe/Ljubljana:20240726T210000
DTEND;TZID=Europe/Ljubljana:20240726T210000
DTSTAMP:20260421T060837
CREATED:20231009T100941Z
LAST-MODIFIED:20231009T113602Z
UID:21281-1722027600-1722027600@www.knjiznica-slovenskekonjice.si
SUMMARY:POLETNICA: JULIJA LUBEJ & CO.
DESCRIPTION:Julija je mlada glasbenica iz okolice Slovenskih Konjic. Glasba je del njenega življenja\, skozi njo se najlažje izraža\, predvsem s petjem. Obožuje jazz in slovenske popevke\, v tej glasbi se počuti svobodno in udobno. Trenutno svoje znanje v petju jazza širi pri mentorici Nini Strnad. Nastopala je že v številnih glasbenih projektih\, na koncertih in v muzikalih. Poleg tega je redna članica zasedb Big band Šentjur\, Big band Šmarje pri Jelšah\, The Moonlighting Orchestra in The Golden dixie boys. Pred kratkim je postala tudi članica vokalne skupine Jazzva. Leta 2019 je na festivalu Popevka v organizaciji nacionalne televizije predstavila svojo prvo avtorsko skladbo Midva\, kar je bila pomembna prelomnica na njeni glasbeni poti. V prihodnosti se veseli ustvarjanja avtorske glasbe in pridobivanja novih izkušenj v svetu glasbe. \n  \nSpremljajoči band sestavlja pet izjemnih profesionalnih glasbenikov\, s katerimi Julija redno sodeluje v različnih glasbenih projektih. Njihov repertoar sestavljajo večžanrske skladbe\, predvsem pop\, funk in jazz. \n  \nZasedba: \nVokal: Julija Lubej. \nTrobenta: Žan Cesar. \nKlavir: Leon Firšt. \nKitara: Alen Kovše. \nBas: Jaka Krušič. \nBobni: Gregor Hrovat. \n  \nVstop prost! Informacije: Center za kulturne prireditve Slovenske Konjice\, 03 758 04 37\, \nFB: Center za kulturne prireditve Slovenske Konjice\, \nIG: @ckpslovenskekonjice.
URL:https://www.knjiznica-slovenskekonjice.si/dogodek/julija-lubej-co/
LOCATION:Slovenske Konjice\, 3210\, Slovenija
CATEGORIES:Koncert
ATTACH;FMTTYPE=image/jpeg:https://www.knjiznica-slovenskekonjice.si/wp-content/uploads/2022/10/Foto-Julija-Lubej-Foto-Matej-Nareks-scaled.jpg
ORGANIZER;CN="Center za kulturne prireditve":MAILTO:info@ckpkonjice.si
END:VEVENT
END:VCALENDAR