BEGIN:VCALENDAR
VERSION:2.0
PRODID:-//Knjižnica Slovenske Konjice - ECPv6.6.4.2//NONSGML v1.0//EN
CALSCALE:GREGORIAN
METHOD:PUBLISH
X-ORIGINAL-URL:https://www.knjiznica-slovenskekonjice.si
X-WR-CALDESC:Dogodki za Knjižnica Slovenske Konjice
REFRESH-INTERVAL;VALUE=DURATION:PT1H
X-Robots-Tag:noindex
X-PUBLISHED-TTL:PT1H
BEGIN:VTIMEZONE
TZID:Europe/Ljubljana
BEGIN:DAYLIGHT
TZOFFSETFROM:+0100
TZOFFSETTO:+0200
TZNAME:CEST
DTSTART:20240331T010000
END:DAYLIGHT
BEGIN:STANDARD
TZOFFSETFROM:+0200
TZOFFSETTO:+0100
TZNAME:CET
DTSTART:20241027T010000
END:STANDARD
END:VTIMEZONE
BEGIN:VEVENT
DTSTART;TZID=Europe/Ljubljana:20240712T210000
DTEND;TZID=Europe/Ljubljana:20240712T210000
DTSTAMP:20260421T060839
CREATED:20231009T100749Z
LAST-MODIFIED:20231009T113552Z
UID:21279-1720818000-1720818000@www.knjiznica-slovenskekonjice.si
SUMMARY:POLETNICA: BATISTA CADILLAC
DESCRIPTION:Batista Cadillac poznamo z izjemno uspešnega nastopa na EMI\, kjer so prvič stopili na veliki TV-oder in predstavili najbolj izstopajoč komad EME 22 »Mim pravil«. Kmalu zatem so na razprodanem koncertu v Kinu Šiška predstavili prvi album\, na katerem se nahaja poleg že omenjene uspešnice še vrsta nagroovanih\, soulovskih singlov\, kot so »Pust me do besede«\, »Magnolije« in »Generacija neba«. Od izida prvenca je minilo dobro leto in v tem času je skupina\, v zdajšnji šestčlanski zasedbi\, nabirala kilometrino na številnih manjših in večjih odrih in se dokončno prelevila v suvereno soul mašino\, ki publiko zlahka dvigne na noge. Sodelujejo s številnimi izjemnimi slovenskimi vokalisti\, med drugim so sodelovali z Vladom Kreslinom in odigrali neverjetno energično izvedbo skladbe »Neviden (Ali veš\, da me ljubiš?)«\, ki so jo potem predstavili kot single. Z aktualnim singlom Batista Cadillac nadaljuje niz uspešnih sodelovanj z izjemnimi slovenskimi vokalisti. Objavili so tudi na novo preoblečeno skladbo »Pust me do besede« z edinstveno divo soula Majo Keuc – Amayo. Skupina napoveduje izid novega singla z istoimenskega prvenca in koncertno turnejo. Obenem pa že delajo nov material za naslednji album\, ki bo brez dvoma prinesel še več razburljivih in nagroovanih uspešnic. \n  \nZasedba: \nVokal: Urban Lutman. \nKitara\, vokal: Matija Koritnik. \nKitara: Primož Hudoklin. \nKlaviature: Jakob Zlatinšek. \nBas kitara: Sebastjan Podlesnik. \nBobni: Enos Kugler. \n  \nVstop prost! Informacije: Center za kulturne prireditve Slovenske Konjice\, 03 758 04 37\, \nFB: Center za kulturne prireditve Slovenske Konjice\, \nIG: @ckpslovenskekonjice.
URL:https://www.knjiznica-slovenskekonjice.si/dogodek/batista-cadillac/
LOCATION:Slovenske Konjice\, 3210\, Slovenija
CATEGORIES:Koncert
ATTACH;FMTTYPE=image/jpeg:https://www.knjiznica-slovenskekonjice.si/wp-content/uploads/2023/09/7.-Poletnica_-BatistaCadillac_Foto_MaticKremzar-1-2-1-scaled.jpg
ORGANIZER;CN="Center za kulturne prireditve":MAILTO:info@ckpkonjice.si
END:VEVENT
END:VCALENDAR