BEGIN:VCALENDAR
VERSION:2.0
PRODID:-//Knjižnica Slovenske Konjice - ECPv6.6.4.2//NONSGML v1.0//EN
CALSCALE:GREGORIAN
METHOD:PUBLISH
X-ORIGINAL-URL:https://www.knjiznica-slovenskekonjice.si
X-WR-CALDESC:Dogodki za Knjižnica Slovenske Konjice
REFRESH-INTERVAL;VALUE=DURATION:PT1H
X-Robots-Tag:noindex
X-PUBLISHED-TTL:PT1H
BEGIN:VTIMEZONE
TZID:Europe/Ljubljana
BEGIN:DAYLIGHT
TZOFFSETFROM:+0100
TZOFFSETTO:+0200
TZNAME:CEST
DTSTART:20240331T010000
END:DAYLIGHT
BEGIN:STANDARD
TZOFFSETFROM:+0200
TZOFFSETTO:+0100
TZNAME:CET
DTSTART:20241027T010000
END:STANDARD
END:VTIMEZONE
BEGIN:VEVENT
DTSTART;TZID=Europe/Ljubljana:20240705T203000
DTEND;TZID=Europe/Ljubljana:20240705T203000
DTSTAMP:20260421T060850
CREATED:20231009T094608Z
LAST-MODIFIED:20231009T094608Z
UID:21273-1720211400-1720211400@www.knjiznica-slovenskekonjice.si
SUMMARY:KLEMEN SLAKONJA & MEDIUM RARE BAND
DESCRIPTION:En večer\, en band\, en človek\, tisoč obrazov. \nKlemen Slakonja že nekaj časa navdušuje s svojim nepozabnim koncertom. \nV smeha polnem večeru zasijejo njegovi pevski\, igralski in imitacijski talenti\, medtem ko se z vrhunskimi glasbeniki sprehaja med različnimi žanri. \n  \nSlišali\, videli in doživeli bomo vse\, od Slavoja Žižka\, Jana Plestenjaka in Modrijanov\, do Eda Sheerana\, Franka Sinatre in Pavarottija in\, ne nazadnje do Klemna Slakonje samega\, z avtorskimi uspešnicami\, ki so z večmilijonskimi ogledi  na platformi YouTube obkrožile svet. \n  \nNastopajo: \nKlemen Slakonja – glas\, \nIgor Leonardi – kitara\, \nTadej Kampl – bas\, \nJanez Gabrič – bobni\, \nNejc Škofic – klaviature\, \nBojan Zupančič – saksofon\, \nMatjaž Kajzer – trobenta\, \nDomen Gantar – pozavna. \n  \nInformacije: Center za kulturne prireditve Slovenske Konjice\, 03 758 04 37\, \nFB: Center za kulturne prireditve Slovenske Konjice\, \nIG: @ckpslovenskekonjice.
URL:https://www.knjiznica-slovenskekonjice.si/dogodek/klemen-slakonja-medium-rare-band/
LOCATION:Žička Kartuzija\, Slovenia
CATEGORIES:Koncert
ATTACH;FMTTYPE=image/jpeg:https://www.knjiznica-slovenskekonjice.si/wp-content/uploads/2023/09/6.-Poletni-glasbeni-veceri-v-Zicki-kartuziji_Klemen-Slakonja_foto-Jani-Ugrin.jpg
ORGANIZER;CN="Center za kulturne prireditve":MAILTO:info@ckpkonjice.si
END:VEVENT
END:VCALENDAR